BEGIN:VCALENDAR
VERSION:2.0
PRODID:-//wp-events-plugin.com//7.2.3.1//EN
TZID:America/New_York
X-WR-TIMEZONE:America/New_York
BEGIN:VEVENT
UID:2016@findingconnecticut.com
DTSTART;TZID=America/New_York:20230903T200000
DTEND;TZID=America/New_York:20230903T220000
DTSTAMP:20230722T160929Z
URL:https://findingconnecticut.com/events/zeta-and-codefendants/
SUMMARY:Zeta and Codefendants
DESCRIPTION:Zeta and Codefendants\nSeptember 3\, 2023  •  8 pm\nClick h
 ere for more information \n\n Space Ballroom\n425 Treadwell Street\nHamd
 en\, CT 06514\n\nTo add an event please email us\, we monitor for spam. We
  need a photo\, description and website for each submission - We do not ac
 cept submissions that are within the next 3 days. submissions at findingco
 nnecticut.com\n\n[caption id="attachment_16083" align="alignnone" width="3
 00"] shop.findingconnecticut.com[/caption]\n\n 
ATTACH;FMTTYPE=image/jpeg:https://findingconnecticut.com/wp-content/upload
 s/2023/07/Screenshot-2023-07-22-at-11.18.30-AM.png
CATEGORIES:Hamden
LOCATION:Space Ballroom\, 295 Treadwell St\,\,  Hamden\, \, Connecticut\, \
 , 06514\, United States
X-APPLE-STRUCTURED-LOCATION;VALUE=URI;X-ADDRESS=295 Treadwell St\,\,  Hamde
 n\, \, Connecticut\, \, 06514\, United States;X-APPLE-RADIUS=100;X-TITLE=S
 pace Ballroom:geo:0,0
END:VEVENT
BEGIN:VTIMEZONE
TZID:America/New_York
X-LIC-LOCATION:America/New_York
BEGIN:DAYLIGHT
DTSTART:20230312T030000
TZOFFSETFROM:-0500
TZOFFSETTO:-0400
TZNAME:EDT
END:DAYLIGHT
END:VTIMEZONE
END:VCALENDAR