BEGIN:VCALENDAR
VERSION:2.0
PRODID:-//wp-events-plugin.com//7.2.3.1//EN
TZID:America/New_York
X-WR-TIMEZONE:America/New_York
BEGIN:VEVENT
UID:348@findingconnecticut.com
DTSTART;TZID=America/New_York:20230304T090000
DTEND;TZID=America/New_York:20230304T120000
DTSTAMP:20230216T181032Z
URL:https://findingconnecticut.com/events/yard-goats-to-hold-national-anth
 em-auditions/
SUMMARY:Yard Goats to hold National Anthem Auditions
DESCRIPTION:Yard Goats to hold National Anthem Auditions\nMarch 4\, 2023  
 • 9 am - 12 pm\n\nClick here for more information \nDunkin Donuts Park
  \n1214 Main Street\nHartford\, CT 06103\nTo add an event please email us
 \, we monitor for spam. We need a photo\, description and website for each
  submission - We do not accept submissions that are within the next 3 days
 . submissions@findingconnecticut.com\n\n\n[caption id="attachment_16083" a
 lign="alignnone" width="300"] shop.findingconnecticut.com[/caption]
ATTACH;FMTTYPE=image/jpeg:https://findingconnecticut.com/wp-content/upload
 s/2021/08/iu-1.png
CATEGORIES:Hartford
LOCATION:Dunkin'  Park\, 1214 Main St\, Hartford \, Connecticut \, 06103\, 
 New England\, United States
X-APPLE-STRUCTURED-LOCATION;VALUE=URI;X-ADDRESS=1214 Main St\, Hartford \, 
 Connecticut \, 06103\, New England\, United States;X-APPLE-RADIUS=100;X-TI
 TLE=Dunkin'  Park:geo:0,0
END:VEVENT
BEGIN:VTIMEZONE
TZID:America/New_York
X-LIC-LOCATION:America/New_York
BEGIN:STANDARD
DTSTART:20221106T010000
TZOFFSETFROM:-0400
TZOFFSETTO:-0500
TZNAME:EST
END:STANDARD
END:VTIMEZONE
END:VCALENDAR