BEGIN:VCALENDAR
VERSION:2.0
PRODID:-//wp-events-plugin.com//7.2.3.1//EN
TZID:America/New_York
X-WR-TIMEZONE:America/New_York
BEGIN:VEVENT
UID:707@findingconnecticut.com
DTSTART;TZID=America/New_York:20230402T143000
DTEND;TZID=America/New_York:20230402T170000
DTSTAMP:20230313T190420Z
URL:https://findingconnecticut.com/events/yale-school-of-music-ellington-j
 azz-series/
SUMMARY:Yale School of Music Ellington Jazz Series
DESCRIPTION:Yale School of Music Ellington Jazz Series\nApril 2\, 2023  
 •  2 PM\n\nClick here for more information \n\nWoolsey Hall\nMemorial 
 Hall\n168 Grove St\nNew Haven\, CT 06511\n\nTo add an event please email u
 s\, we monitor for spam. We need a photo\, description and website for eac
 h submission - We do not accept submissions that are within the next 3 day
 s. submissions@findingconnecticut.com\n\n[caption id="attachment_16083" al
 ign="alignnone" width="300"] shop.findingconnecticut.com[/caption]\n\n&nbs
 p\;
ATTACH;FMTTYPE=image/jpeg:https://findingconnecticut.com/wp-content/upload
 s/2023/03/Image-2.jpg
CATEGORIES:New Haven
LOCATION:Woolsey Hall at Yale\,  168 Grove St \, New Haven\, Connecticut\, 
 06511\, New England\, United States
X-APPLE-STRUCTURED-LOCATION;VALUE=URI;X-ADDRESS= 168 Grove St \, New Haven\
 , Connecticut\, 06511\, New England\, United States;X-APPLE-RADIUS=100;X-T
 ITLE=Woolsey Hall at Yale:geo:0,0
END:VEVENT
BEGIN:VTIMEZONE
TZID:America/New_York
X-LIC-LOCATION:America/New_York
BEGIN:DAYLIGHT
DTSTART:20230312T030000
TZOFFSETFROM:-0500
TZOFFSETTO:-0400
TZNAME:EDT
END:DAYLIGHT
END:VTIMEZONE
END:VCALENDAR