BEGIN:VCALENDAR
VERSION:2.0
PRODID:-//wp-events-plugin.com//7.2.3.1//EN
TZID:America/New_York
X-WR-TIMEZONE:America/New_York
BEGIN:VEVENT
UID:2508@findingconnecticut.com
DTSTART;TZID=America/New_York:20231023T200000
DTEND;TZID=America/New_York:20231023T223000
DTSTAMP:20230826T192333Z
URL:https://findingconnecticut.com/events/xiu-xiu/
SUMMARY:Xiu Xiu
DESCRIPTION:Xiu Xiu\nOctober 23\, 2023  •  8 PM\nClick here for more in
 formation \n\n Space Ballroom\n425 Treadwell Street\nHamden\, CT 06514\n
 \nTo add an event please email us\, we monitor for spam. We need a photo\,
  description and website for each submission - We do not accept submission
 s that are within the next 3 days. submissions at findingconnecticut.com 
  \n\n&nbsp\;\n\n[caption id="attachment_16083" align="alignnone" width="3
 00"] shop.findingconnecticut.com[/caption]\n\n&nbsp\;
ATTACH;FMTTYPE=image/jpeg:https://findingconnecticut.com/wp-content/upload
 s/2023/08/Screenshot-2023-08-26-at-2.32.19-PM.png
CATEGORIES:Hamden
LOCATION:Space Ballroom\, 295 Treadwell St\,\,  Hamden\, \, Connecticut\, \
 , 06514\, United States
X-APPLE-STRUCTURED-LOCATION;VALUE=URI;X-ADDRESS=295 Treadwell St\,\,  Hamde
 n\, \, Connecticut\, \, 06514\, United States;X-APPLE-RADIUS=100;X-TITLE=S
 pace Ballroom:geo:0,0
END:VEVENT
BEGIN:VTIMEZONE
TZID:America/New_York
X-LIC-LOCATION:America/New_York
BEGIN:DAYLIGHT
DTSTART:20230312T030000
TZOFFSETFROM:-0500
TZOFFSETTO:-0400
TZNAME:EDT
END:DAYLIGHT
END:VTIMEZONE
END:VCALENDAR