BEGIN:VCALENDAR
VERSION:2.0
PRODID:-//wp-events-plugin.com//7.2.3.1//EN
TZID:America/New_York
X-WR-TIMEZONE:America/New_York
BEGIN:VEVENT
UID:13223@findingconnecticut.com
DTSTART;TZID=America/New_York:20260104T180000
DTEND;TZID=America/New_York:20260104T210000
DTSTAMP:20251024T205609Z
URL:https://findingconnecticut.com/events/wwe-live-total-mortgage-arena-br
 idgeport-ct/
SUMMARY:WWE Live Holiday Tour
DESCRIPTION:WWE Live Holiday Tour\nJanuary 4 \, 2026\n Click here for more
  information \n\n Total Mortgage Arena \n600 Main Street\nBridgeport\, 
 CT 06604\n\nAs of March 2025\, all event listings require payment.\n\nTo s
 ubmit your event\, please send the event details along with a photo and/or
  logo to submissions at findingconnecticut dot com. You can complete your 
 payment here\n\nYour event will be published within 24 hours after both p
 ayment and all required information have been received.\n\nWe offer discou
 nts for multiple event listings.\n\nThank you for supporting Finding Conn
 ecticut—your participation helps us grow our website and brand.\n\n(We d
 o not publish any content that has to do with areas outside of Connecticut
 . If you are looking to post on our Hudson Valley or New York City pages\,
  then contact us via email.)\n\n[caption id="attachment_16083" align="alig
 nnone" width="300"] shop.findingconnecticut.com[/caption]
ATTACH;FMTTYPE=image/jpeg:https://findingconnecticut.com/wp-content/upload
 s/2025/10/68f7d3bc98aa2.jpg
CATEGORIES:Bridgeport
LOCATION:Total Mortgage Arena\, 600 Main Street\, Bridgeport\, Connecticut\
 , 06604\, New England\, United States
X-APPLE-STRUCTURED-LOCATION;VALUE=URI;X-ADDRESS=600 Main Street\, Bridgepor
 t\, Connecticut\, 06604\, New England\, United States;X-APPLE-RADIUS=100;X
 -TITLE=Total Mortgage Arena:geo:0,0
END:VEVENT
BEGIN:VTIMEZONE
TZID:America/New_York
X-LIC-LOCATION:America/New_York
BEGIN:STANDARD
DTSTART:20251102T010000
TZOFFSETFROM:-0400
TZOFFSETTO:-0500
TZNAME:EST
END:STANDARD
END:VTIMEZONE
END:VCALENDAR