BEGIN:VCALENDAR
VERSION:2.0
PRODID:-//wp-events-plugin.com//7.2.3.1//EN
TZID:America/New_York
X-WR-TIMEZONE:America/New_York
BEGIN:VEVENT
UID:5553@findingconnecticut.com
DTSTART;TZID=America/New_York:20240527T160000
DTEND;TZID=America/New_York:20240527T190000
DTSTAMP:20240215T174846Z
URL:https://findingconnecticut.com/events/worcester-bravehearts-vs-norwich
 -sea-unicorns-5/
SUMMARY:Worcester Bravehearts  vs Norwich Sea Unicorns
DESCRIPTION:Worcester Bravehearts vs Norwich Sea Unicorns\nMay 27\, 2024  
 •  4  PM\n\n Click here for more information about the 2024 season \
 n Click here for more information on the Norwich Sea Unicorns\n\n Dodd S
 tadium \n 14 Scott Avenue\nNorwich\,  CT 06360\n\nTo add an event pleas
 e email us\, we monitor for spam. We need a photo\, description and websit
 e for each submission - We do not accept submissions that are within the n
 ext 3 days. submissions at findingconnecticut.com  \n\n[caption id="atta
 chment_16083" align="alignnone" width="300"] shop.findingconnecticut.com[/
 caption]
ATTACH;FMTTYPE=image/jpeg:https://findingconnecticut.com/wp-content/upload
 s/2021/12/iu.png
CATEGORIES:Norwich
LOCATION:Dodd Stadium\, 14 Scott Ave\, Norwich \, Connecticut \, 06360\, Un
 ited States
X-APPLE-STRUCTURED-LOCATION;VALUE=URI;X-ADDRESS=14 Scott Ave\, Norwich \, C
 onnecticut \, 06360\, United States;X-APPLE-RADIUS=100;X-TITLE=Dodd Stadiu
 m:geo:0,0
END:VEVENT
BEGIN:VTIMEZONE
TZID:America/New_York
X-LIC-LOCATION:America/New_York
BEGIN:DAYLIGHT
DTSTART:20240310T030000
TZOFFSETFROM:-0500
TZOFFSETTO:-0400
TZNAME:EDT
END:DAYLIGHT
END:VTIMEZONE
END:VCALENDAR