BEGIN:VCALENDAR
VERSION:2.0
PRODID:-//wp-events-plugin.com//7.2.3.1//EN
TZID:America/New_York
X-WR-TIMEZONE:America/New_York
BEGIN:VEVENT
UID:5191@findingconnecticut.com
DTSTART;TZID=America/New_York:20240901T090000
DTEND;TZID=America/New_York:20240901T230000
DTSTAMP:20240126T143544Z
URL:https://findingconnecticut.com/events/woodstock-fair-3/
SUMMARY:Woodstock Fair
DESCRIPTION:Woodstock Fair\nSeptember 1\, 2024  • 9 am - 11 pm\n\n Clic
 k here for more information\n\nWoodstock Fair\n281 CT-169\nWoodstock\, CT 
 06281\n\nTo add an event please email us\, we monitor for spam. We need a 
 photo\, description and website for each submission - We do not accept sub
 missions that are within the next 3 days. submissions at findingconnecticu
 t.com\n\n[caption id="attachment_16083" align="alignnone" width="300"] sho
 p.findingconnecticut.com[/caption]
ATTACH;FMTTYPE=image/jpeg:https://findingconnecticut.com/wp-content/upload
 s/2024/01/woodstockfair_preview-scaled.jpg
CATEGORIES:Woodstock
LOCATION:Woodstock Fair\, 281 CT-169 \, Woodstock\, Connecticut\, 06281\, N
 ew England\, United States
X-APPLE-STRUCTURED-LOCATION;VALUE=URI;X-ADDRESS=281 CT-169 \, Woodstock\, C
 onnecticut\, 06281\, New England\, United States;X-APPLE-RADIUS=100;X-TITL
 E=Woodstock Fair:geo:0,0
END:VEVENT
BEGIN:VTIMEZONE
TZID:America/New_York
X-LIC-LOCATION:America/New_York
BEGIN:DAYLIGHT
DTSTART:20240310T030000
TZOFFSETFROM:-0500
TZOFFSETTO:-0400
TZNAME:EDT
END:DAYLIGHT
END:VTIMEZONE
END:VCALENDAR