BEGIN:VCALENDAR
VERSION:2.0
PRODID:-//wp-events-plugin.com//7.2.3.1//EN
TZID:America/New_York
X-WR-TIMEZONE:America/New_York
BEGIN:VEVENT
UID:13214@findingconnecticut.com
DTSTART;TZID=America/New_York:20251123T090000
DTEND;TZID=America/New_York:20251123T150000
DTSTAMP:20251019T133446Z
URL:https://findingconnecticut.com/events/womens-fall-craft-celebration-we
 st-hartford-ct/
SUMMARY:Women's Fall Craft Celebration
DESCRIPTION:Women's Fall Craft Celebration\nNovember 23\, 2024\n Click her
 e for more information \n\n  Click here to return to Finding Connecticut
 's home page\n\nClick here for more information about submitting events. 
 \n\n&nbsp\;\n\n[caption id="attachment_16083" align="alignnone" width="300
 "] shop.findingconnecticut.com[/caption]
ATTACH;FMTTYPE=image/jpeg:https://findingconnecticut.com/wp-content/upload
 s/2025/10/Fall-2025-copy.jpg
CATEGORIES:West Hartford
LOCATION:Pond House Cafe\, 1555 Asylum Ave\, West Hartford\, Connecticut\, 
 06119\, New England\, United States
X-APPLE-STRUCTURED-LOCATION;VALUE=URI;X-ADDRESS=1555 Asylum Ave\, West Hart
 ford\, Connecticut\, 06119\, New England\, United States;X-APPLE-RADIUS=10
 0;X-TITLE=Pond House Cafe:geo:0,0
END:VEVENT
BEGIN:VTIMEZONE
TZID:America/New_York
X-LIC-LOCATION:America/New_York
BEGIN:STANDARD
DTSTART:20251102T010000
TZOFFSETFROM:-0400
TZOFFSETTO:-0500
TZNAME:EST
END:STANDARD
END:VTIMEZONE
END:VCALENDAR