BEGIN:VCALENDAR
VERSION:2.0
PRODID:-//wp-events-plugin.com//7.2.3.1//EN
TZID:America/New_York
X-WR-TIMEZONE:America/New_York
BEGIN:VEVENT
UID:4078@findingconnecticut.com
DTSTART;TZID=America/New_York:20240110T170000
DTEND;TZID=America/New_York:20240110T200000
DTSTAMP:20231225T161329Z
URL:https://findingconnecticut.com/events/winter-harvest-farmers-market/
SUMMARY:Winter Harvest Farmers' Market
DESCRIPTION:Winter Harvest Farmers' Market\nJanuary 10\, 2024  •  5 - 8
  PM\n201 W High Street\nEast Hampton CT 06424\n\nClick here to learn more 
 about Winter Harvest Farmers' Market\n\nShare your  Winter Harvest Farmer
 s Market  experience with us by using #findingconnecticut on Instagram\n
 \nClick here to return to Finding Connecticut's home page\n\nClick here fo
 r the latest news in East Hampton\nClick here for the upcoming events in E
 ast Hampton\nClick here for the latest news in Middlesex County\nClick her
 e for the upcoming events in Middlesex County\n\nTo add an event please em
 ail us\, we monitor for spam. We need a photo\, description and website fo
 r each submission - We do not accept submissions that are within the next 
 3 days. submissions@findingconnecticut.com\n\n
ATTACH;FMTTYPE=image/jpeg:https://findingconnecticut.com/wp-content/upload
 s/2023/12/327187285_929481098426336_6033673015713621634_n.png
CATEGORIES:East Hampton
LOCATION:Winter Harvest Farmers' Market\, 201 W High Street\, East Hampton\
 , Connecticut\, 06424\, New England\, United States
X-APPLE-STRUCTURED-LOCATION;VALUE=URI;X-ADDRESS=201 W High Street\, East Ha
 mpton\, Connecticut\, 06424\, New England\, United States;X-APPLE-RADIUS=1
 00;X-TITLE=Winter Harvest Farmers' Market:geo:0,0
END:VEVENT
BEGIN:VTIMEZONE
TZID:America/New_York
X-LIC-LOCATION:America/New_York
BEGIN:STANDARD
DTSTART:20231105T010000
TZOFFSETFROM:-0400
TZOFFSETTO:-0500
TZNAME:EST
END:STANDARD
END:VTIMEZONE
END:VCALENDAR