BEGIN:VCALENDAR
VERSION:2.0
PRODID:-//wp-events-plugin.com//7.2.3.1//EN
TZID:America/New_York
X-WR-TIMEZONE:America/New_York
BEGIN:VEVENT
UID:1794@findingconnecticut.com
DTSTART;TZID=America/New_York:20230822T200000
DTEND;TZID=America/New_York:20230822T223000
DTSTAMP:20230624T022426Z
URL:https://findingconnecticut.com/events/william-tyler-the-impossible-tru
 ths-and-garcia-peoples/
SUMMARY:William Tyler & The Impossible Truths and Garcia Peoples
DESCRIPTION:William Tyler &amp\; The Impossible Truths and Garcia Peoples\n
 August 22\, 2023 • 8 pm\nClick here for more information \n\n Space Ba
 llroom\n425 Treadwell Street\nHamden\, CT 06514\n\nTo add an event please 
 email us\, we monitor for spam. We need a photo\, description and website 
 for each submission - We do not accept submissions that are within the nex
 t 3 days. submissions at findingconnecticut.com  \n\n[caption id="attach
 ment_16083" align="alignnone" width="300"] shop.findingconnecticut.com[/ca
 ption]
ATTACH;FMTTYPE=image/jpeg:https://findingconnecticut.com/wp-content/upload
 s/2023/06/Screenshot-2023-06-23-at-9.12.39-PM.png
CATEGORIES:Hamden
LOCATION:Space Ballroom\, 295 Treadwell St\,\,  Hamden\, \, Connecticut\, \
 , 06514\, United States
X-APPLE-STRUCTURED-LOCATION;VALUE=URI;X-ADDRESS=295 Treadwell St\,\,  Hamde
 n\, \, Connecticut\, \, 06514\, United States;X-APPLE-RADIUS=100;X-TITLE=S
 pace Ballroom:geo:0,0
END:VEVENT
BEGIN:VTIMEZONE
TZID:America/New_York
X-LIC-LOCATION:America/New_York
BEGIN:DAYLIGHT
DTSTART:20230312T030000
TZOFFSETFROM:-0500
TZOFFSETTO:-0400
TZNAME:EDT
END:DAYLIGHT
END:VTIMEZONE
END:VCALENDAR