BEGIN:VCALENDAR
VERSION:2.0
PRODID:-//wp-events-plugin.com//7.2.3.1//EN
TZID:America/New_York
X-WR-TIMEZONE:America/New_York
BEGIN:VEVENT
UID:40@findingconnecticut.com
DTSTART;TZID=America/New_York:20230204T190000
DTEND;TZID=America/New_York:20230204T220000
DTSTAMP:20230130T015720Z
URL:https://findingconnecticut.com/events/wilkes-barre-scranton-penguins-v
 s-hartford-wolf-pack/
SUMMARY:Wilkes-Barre Scranton Penguins vs Hartford Wolf Pack
DESCRIPTION:\n\nWilkes - Barre Scranton vs Hartford Wolf Pack \nFebruary 4
 \, 2023 • 7:00 PM\nClick here to purchase tickets\n\nXL Center\n1 Civic 
 Center Plaza\nHartford\, CT 06103\nTo add an event please email us\, we mo
 nitor for spam. We need a photo\, description and website for each submiss
 ion - We do not accept submissions that are within the next 3 days. submis
 sions@findingconnecticut.com\n
ATTACH;FMTTYPE=image/jpeg:https://findingconnecticut.com/wp-content/upload
 s/2021/08/iu.jpeg
CATEGORIES:Hartford
LOCATION:People'sBank Arena\, 1 Civic Center Plaza\, Hartford\,  CT \, 0610
 3\, New England\, \, United States
X-APPLE-STRUCTURED-LOCATION;VALUE=URI;X-ADDRESS=1 Civic Center Plaza\, Hart
 ford\,  CT \, 06103\, New England\, \, United States;X-APPLE-RADIUS=100;X-
 TITLE=People'sBank Arena:geo:0,0
END:VEVENT
BEGIN:VTIMEZONE
TZID:America/New_York
X-LIC-LOCATION:America/New_York
BEGIN:STANDARD
DTSTART:20221106T010000
TZOFFSETFROM:-0400
TZOFFSETTO:-0500
TZNAME:EST
END:STANDARD
END:VTIMEZONE
END:VCALENDAR