BEGIN:VCALENDAR
VERSION:2.0
PRODID:-//wp-events-plugin.com//7.2.3.1//EN
TZID:America/New_York
X-WR-TIMEZONE:America/New_York
BEGIN:VEVENT
UID:2957@findingconnecticut.com
DTSTART;TZID=America/New_York:20231021T180000
DTEND;TZID=America/New_York:20231021T200000
DTSTAMP:20231015T171748Z
URL:https://findingconnecticut.com/events/what-lurks-beneath-2/
SUMMARY:What Lurks Beneath
DESCRIPTION:Black Maritime Excellence: Reclaiming Afro-Atlantic Dialogues\n
 October 21\, 2023 •  6pm - 8pm\n\nClick here for more information \n\n
 Mystic Seaport Museum\n75 Greenmanville Ave\nMystic\, CT 06355\nTo add an 
 event please email us\, we monitor for spam. We need a photo\, description
  and website for each submission - We do not accept submissions that are w
 ithin the next 3 days. submissions@findingconnecticut.com\n\n\n[caption id
 ="attachment_16083" align="alignnone" width="300"] shop.findingconnecticut
 .com[/caption]
ATTACH;FMTTYPE=image/jpeg:https://findingconnecticut.com/wp-content/upload
 s/2023/10/d2014-10-0222.jpg
CATEGORIES:Mystic
LOCATION:Mystic Seaport Museum\, 75 Greenmanville Ave\, Mystic \, Connectic
 ut \, 06355\, United States
X-APPLE-STRUCTURED-LOCATION;VALUE=URI;X-ADDRESS=75 Greenmanville Ave\, Myst
 ic \, Connecticut \, 06355\, United States;X-APPLE-RADIUS=100;X-TITLE=Myst
 ic Seaport Museum:geo:0,0
END:VEVENT
BEGIN:VTIMEZONE
TZID:America/New_York
X-LIC-LOCATION:America/New_York
BEGIN:DAYLIGHT
DTSTART:20230312T030000
TZOFFSETFROM:-0500
TZOFFSETTO:-0400
TZNAME:EDT
END:DAYLIGHT
END:VTIMEZONE
END:VCALENDAR