BEGIN:VCALENDAR
VERSION:2.0
PRODID:-//wp-events-plugin.com//7.2.3.1//EN
TZID:America/New_York
X-WR-TIMEZONE:America/New_York
BEGIN:VEVENT
UID:4072@findingconnecticut.com
DTSTART;TZID=America/New_York:20240905T150000
DTEND;TZID=America/New_York:20240905T180000
DTSTAMP:20231225T024930Z
URL:https://findingconnecticut.com/events/wethersfield-farmers-market-15/
SUMMARY:Wethersfield Farmers' Market
DESCRIPTION:Wethersfield Farmers' Market\nSeptember 5\, 2024 • 3 pm - 6 p
 m\n\nWethersfield Farmers Market\n  220 Hartford Avenue\n  Wethersfield\
 , CT 06109\n\n Click here for more information on Wethersfield Farmers' M
 arket\n Click here for other Connecticut Farmers' Markets\n Click here t
 o return to Finding Connecticut's home page
ATTACH;FMTTYPE=image/jpeg:https://findingconnecticut.com/wp-content/upload
 s/2023/12/Untitled-10.png
CATEGORIES:Wethersfield
LOCATION:Wetherfield Farmers' Market\, 220 Hartford Avenue\, Wethersfield\,
  Connecticut \, 06109\, New England\, United States
X-APPLE-STRUCTURED-LOCATION;VALUE=URI;X-ADDRESS=220 Hartford Avenue\, Wethe
 rsfield\, Connecticut \, 06109\, New England\, United States;X-APPLE-RADIU
 S=100;X-TITLE=Wetherfield Farmers' Market:geo:0,0
END:VEVENT
BEGIN:VTIMEZONE
TZID:America/New_York
X-LIC-LOCATION:America/New_York
BEGIN:DAYLIGHT
DTSTART:20240310T030000
TZOFFSETFROM:-0500
TZOFFSETTO:-0400
TZNAME:EDT
END:DAYLIGHT
END:VTIMEZONE
END:VCALENDAR