BEGIN:VCALENDAR
VERSION:2.0
PRODID:-//wp-events-plugin.com//7.2.3.1//EN
TZID:America/New_York
X-WR-TIMEZONE:America/New_York
BEGIN:VEVENT
UID:6167@findingconnecticut.com
DTSTART;TZID=America/New_York:20240602T120000
DTEND;TZID=America/New_York:20240602T150000
DTSTAMP:20240525T210051Z
URL:https://findingconnecticut.com/events/westport-pride-celebration-2/
SUMMARY:Westport Pride Celebration
DESCRIPTION:Westport Pride Celebration\nJune 2\, 2023  •  12 pm - 3 pm\
 n Click here for more information \n\nJessup Green\n20 Jesup Road\nWestpo
 rt\, CT 06880\n\nTo add an event please email us\, we monitor for spam. We
  need a photo\, description and website for each submission - We do not ac
 cept submissions that are within the next 3 days. submissions at findingco
 nnecticut.com\n\n[caption id="attachment_16083" align="alignnone" width="3
 00"] shop.findingconnecticut.com[/caption]\n\n \n\n&nbsp\;
ATTACH;FMTTYPE=image/jpeg:https://findingconnecticut.com/wp-content/upload
 s/2024/05/westport-pride-june-events-westport-connecticut_preview-scaled.j
 pg
CATEGORIES:Westport
LOCATION:Jessup Green\, 20 Jessup Road\, Westport\, Connecticut\, 06880\, N
 ew England\, United States
X-APPLE-STRUCTURED-LOCATION;VALUE=URI;X-ADDRESS=20 Jessup Road\, Westport\,
  Connecticut\, 06880\, New England\, United States;X-APPLE-RADIUS=100;X-TI
 TLE=Jessup Green:geo:0,0
END:VEVENT
BEGIN:VTIMEZONE
TZID:America/New_York
X-LIC-LOCATION:America/New_York
BEGIN:DAYLIGHT
DTSTART:20240310T030000
TZOFFSETFROM:-0500
TZOFFSETTO:-0400
TZNAME:EDT
END:DAYLIGHT
END:VTIMEZONE
END:VCALENDAR