BEGIN:VCALENDAR
VERSION:2.0
PRODID:-//wp-events-plugin.com//7.2.3.1//EN
TZID:America/New_York
X-WR-TIMEZONE:America/New_York
BEGIN:VEVENT
UID:4154@findingconnecticut.com
DTSTART;TZID=America/New_York:20240229T100000
DTEND;TZID=America/New_York:20240229T140000
DTSTAMP:20231226T203455Z
URL:https://findingconnecticut.com/events/westport-farmers-market-winter-m
 arket-10/
SUMMARY:Westport Farmers' Market - Winter Market
DESCRIPTION:\n\n\nWestport Farmers' Market - Winter Market\n February 29\,
   2024  • 10 am - 2 pm\n\n\n  We are constantly asking the ever impor
 tant question - Who Grows Your Food? In 2024\, boasting the accolade of th
 e strictest guidelines in the state\, the market is blooming with 50+ vend
 ors! Food trucks\, GMO free vendors\, organic farmers\, pizza\, chef demos
 \, tamales\, and an eager\, hungry lunch crowd. We now welcome thousands o
 f eager shoppers every week.\n\nFrom the first seeds that were planted in 
 2006\, we have grown\, and blossomed. We remain committed to our initial g
 oals -- to provide fresh\, local\, healthy and seasonal food to our commun
 ity. And we continue to aspire to create a fun\, safe and healthy communit
 y environment that promotes education about local food\, local farms\, and
  sustainable\, healthy growing practices\n\n  7 Sylvan Lane\, Westport\, 
 CT 06880\n\n&nbsp\;\n\n\n\n\n\n Click here for Westport Farmers' Market e
 vents\n Click here for the latest news in  Westport \n Click here for t
 he latest news in Fairfield County \n Click here for the upcoming events 
 in Westport\n Click here for the upcoming events in Fairfield County \n\
 n\n\n\n\n Share your Westport Farmers'  Market  experience with us by u
 sing #findingconnecticut on Instagram\n\n Click here to return to our ho
 me page.\n\nTo add an event please email us\, we monitor for spam. We need
  a photo\, description and website for each submission - We do not accept 
 submissions that are within the next 3 days. submissions@findingconnecticu
 t.com\n\n[caption id="attachment_16083" align="alignnone" width="300"] sho
 p.findingconnecticut.com[/caption]\n\n\n\n\n
ATTACH;FMTTYPE=image/jpeg:https://findingconnecticut.com/wp-content/upload
 s/2023/12/WFM_400x400-01.png
CATEGORIES:Westport
LOCATION:Westport Farmers Market - Winter Market\, 7 Sylvan Lane\, Westport
 \, Connecticut \, 06880\, New England\, United States
X-APPLE-STRUCTURED-LOCATION;VALUE=URI;X-ADDRESS=7 Sylvan Lane\, Westport\, 
 Connecticut \, 06880\, New England\, United States;X-APPLE-RADIUS=100;X-TI
 TLE=Westport Farmers Market - Winter Market:geo:0,0
END:VEVENT
BEGIN:VTIMEZONE
TZID:America/New_York
X-LIC-LOCATION:America/New_York
BEGIN:STANDARD
DTSTART:20231105T010000
TZOFFSETFROM:-0400
TZOFFSETTO:-0500
TZNAME:EST
END:STANDARD
END:VTIMEZONE
END:VCALENDAR