BEGIN:VCALENDAR
VERSION:2.0
PRODID:-//wp-events-plugin.com//7.2.3.1//EN
TZID:America/New_York
X-WR-TIMEZONE:America/New_York
BEGIN:VEVENT
UID:4175@findingconnecticut.com
DTSTART;TZID=America/New_York:20240530T100000
DTEND;TZID=America/New_York:20240530T140000
DTSTAMP:20231226T213251Z
URL:https://findingconnecticut.com/events/westport-farmers-market-4/
SUMMARY:Westport Farmers' Market
DESCRIPTION:\n\n\nWestport Farmers' Market\n  May 30\, 2024  • 10 am - 
 2 pm\n\n\n  We are constantly asking the ever important question - Who Gr
 ows Your Food? In 2024\, boasting the accolade of the strictest guidelines
  in the state\, the market is blooming with 50+ vendors! Food trucks\, GMO
  free vendors\, organic farmers\, pizza\, chef demos\, tamales\, and an ea
 ger\, hungry lunch crowd. We now welcome thousands of eager shoppers every
  week.\n\nFrom the first seeds that were planted in 2006\, we have grown\,
  and blossomed. We remain committed to our initial goals -- to provide fre
 sh\, local\, healthy and seasonal food to our community. And we continue t
 o aspire to create a fun\, safe and healthy community environment that pro
 motes education about local food\, local farms\, and sustainable\, healthy
  growing practices\n\n50 Imperial Avenue\, Westport\, CT 06880\n\n&nbsp\;\
 n\n\n\n\n\n Click here for Westport Farmers' Market events\n Click here 
 for the latest news in  Westport \n Click here for the latest news in Fa
 irfield County \n Click here for the upcoming events in Westport\n Click
  here for the upcoming events in Fairfield County \n\n\n\n\n\n Share you
 r Westport Farmers'  Market  experience with us by using #findingconnect
 icut on Instagram\n\n Click here to return to our home page.\n\nTo add a
 n event please email us\, we monitor for spam. We need a photo\, descripti
 on and website for each submission - We do not accept submissions that are
  within the next 3 days. submissions@findingconnecticut.com\n\n[caption id
 ="attachment_16083" align="alignnone" width="300"] shop.findingconnecticut
 .com[/caption]\n\n\n\n\n
ATTACH;FMTTYPE=image/jpeg:https://findingconnecticut.com/wp-content/upload
 s/2023/12/WFM_400x400-01.png
CATEGORIES:Westport
LOCATION:Westport Farmers' Market\, 50 Imperial Avenue\,\, Westport\, Conne
 cticut \, 06880\, New England \, United States
X-APPLE-STRUCTURED-LOCATION;VALUE=URI;X-ADDRESS=50 Imperial Avenue\,\, West
 port\, Connecticut \, 06880\, New England \, United States;X-APPLE-RADIUS=
 100;X-TITLE=Westport Farmers' Market:geo:0,0
END:VEVENT
BEGIN:VTIMEZONE
TZID:America/New_York
X-LIC-LOCATION:America/New_York
BEGIN:DAYLIGHT
DTSTART:20240310T030000
TZOFFSETFROM:-0500
TZOFFSETTO:-0400
TZNAME:EDT
END:DAYLIGHT
END:VTIMEZONE
END:VCALENDAR