BEGIN:VCALENDAR
VERSION:2.0
PRODID:-//wp-events-plugin.com//7.2.3.1//EN
TZID:America/New_York
X-WR-TIMEZONE:America/New_York
BEGIN:VEVENT
UID:1978@findingconnecticut.com
DTSTART;TZID=America/New_York:20230805T103000
DTEND;TZID=America/New_York:20230805T120000
DTSTAMP:20230717T165605Z
URL:https://findingconnecticut.com/events/westport-country-playhouse-guide
 d-tour-4/
SUMMARY:Westport Country Playhouse Guided Tour
DESCRIPTION:Westport Country Playhouse Guided Tour\nAugust 7\, 2023 • 10:
 30 am - 12 pm\n Click here for more information \n\n Westport Country P
 layhouse\n25 Powers Court\nWestport\, Connecticut 06880\n\nTo add an event
  please email us\, we monitor for spam. We need a photo\, description and 
 website for each submission - We do not accept submissions that are within
  the next 3 days. submissions at findingconnecticut.com  \n\n[caption id
 ="attachment_16083" align="alignnone" width="300"] shop.findingconnecticut
 .com[/caption]
ATTACH;FMTTYPE=image/jpeg:https://findingconnecticut.com/wp-content/upload
 s/2023/07/WCP_Bruce-Miller.jpg
CATEGORIES:Westport
LOCATION:Westport Country Playhouse\, 25 Powers Court\, \, Westport\, \, Co
 nnecticut\, \, 06880\, New England \, United States
X-APPLE-STRUCTURED-LOCATION;VALUE=URI;X-ADDRESS=25 Powers Court\, \, Westpo
 rt\, \, Connecticut\, \, 06880\, New England \, United States;X-APPLE-RADI
 US=100;X-TITLE=Westport Country Playhouse:geo:0,0
END:VEVENT
BEGIN:VTIMEZONE
TZID:America/New_York
X-LIC-LOCATION:America/New_York
BEGIN:DAYLIGHT
DTSTART:20230312T030000
TZOFFSETFROM:-0500
TZOFFSETTO:-0400
TZNAME:EDT
END:DAYLIGHT
END:VTIMEZONE
END:VCALENDAR