BEGIN:VCALENDAR
VERSION:2.0
PRODID:-//wp-events-plugin.com//7.2.3.1//EN
TZID:America/New_York
X-WR-TIMEZONE:America/New_York
BEGIN:VEVENT
UID:387@findingconnecticut.com
DTSTART;TZID=America/New_York:20230930T100000
DTEND;TZID=America/New_York:20230930T130000
DTSTAMP:20230219T004748Z
URL:https://findingconnecticut.com/events/west-cornwall-farm-market-21/
SUMMARY:West Cornwall Farm Market
DESCRIPTION:West Cornwall Farm Market\nSeptember 30\, 2023  •  10 am - 
 1 pm\n•\n413 Sharon Goshen Turnpike\nWest Cornwall CT 06796\n•\nSaturd
 ay mornings in West Cornwall \, just up from the Covered Bridge on the Wis
 h House lawn offering locally grown\, raised\, crafted food\, flowers\, pl
 ants and other artisanal products .\n•\nTo add an event please email us\
 , we monitor for spam. We need a photo\, description and website for each 
 submission - We do not accept submissions that are within the next 3 days.
  submissions@findingconnecticut.com\n•\n\n\n[caption id="attachment_1608
 3" align="alignnone" width="300"] shop.findingconnecticut.com[/caption]\n\
 n&nbsp\;
ATTACH;FMTTYPE=image/jpeg:https://findingconnecticut.com/wp-content/upload
 s/2023/02/20220730_111349_resized.jpg
CATEGORIES:West Cornwall
LOCATION:West Cornwall Farmers Market\, 413 Sharon Goshen Turnkpike\, West 
 Cornwall \, Connecticut\, 06796\, New England\, United States
X-APPLE-STRUCTURED-LOCATION;VALUE=URI;X-ADDRESS=413 Sharon Goshen Turnkpike
 \, West Cornwall \, Connecticut\, 06796\, New England\, United States;X-AP
 PLE-RADIUS=100;X-TITLE=West Cornwall Farmers Market:geo:0,0
END:VEVENT
BEGIN:VTIMEZONE
TZID:America/New_York
X-LIC-LOCATION:America/New_York
BEGIN:DAYLIGHT
DTSTART:20230312T030000
TZOFFSETFROM:-0500
TZOFFSETTO:-0400
TZNAME:EDT
END:DAYLIGHT
END:VTIMEZONE
END:VCALENDAR