BEGIN:VCALENDAR
VERSION:2.0
PRODID:-//wp-events-plugin.com//7.2.3.1//EN
TZID:America/New_York
X-WR-TIMEZONE:America/New_York
BEGIN:VEVENT
UID:320@findingconnecticut.com
DTSTART;TZID=America/New_York:20230311T140000
DTEND;TZID=America/New_York:20230311T160000
DTSTAMP:20230215T012835Z
URL:https://findingconnecticut.com/events/weekend-matinee-series-at-lyme-a
 rt-association/
SUMMARY:Weekend Matinee Series at Lyme Art Association
DESCRIPTION:Weekend Matinee Series at Lyme Art Association\nMarch 11\, 2023
  • 2 PM - 4 PM\n\nClick here for more information \nLyme Art Associatio
 n\n90 Lyme Street\nOld Lyme\, CT 06371\nTo add an event please email us\, 
 we monitor for spam. We need a photo\, description and website for each su
 bmission - We do not accept submissions that are within the next 3 days. s
 ubmissions@findingconnecticut.com\n\n\n[caption id="attachment_16083" alig
 n="alignnone" width="300"] shop.findingconnecticut.com[/caption]
ATTACH;FMTTYPE=image/jpeg:https://findingconnecticut.com/wp-content/upload
 s/2023/02/Mike-Laiuppa-Ribbons_on_Pointe_12x24-oil.jpg
CATEGORIES:Old Lyme
LOCATION:Lyme Art Association\, 90 Lyme Street\, Old Lyme\, Connecticut\, 0
 6371\, New England\, United States
X-APPLE-STRUCTURED-LOCATION;VALUE=URI;X-ADDRESS=90 Lyme Street\, Old Lyme\,
  Connecticut\, 06371\, New England\, United States;X-APPLE-RADIUS=100;X-TI
 TLE=Lyme Art Association:geo:0,0
END:VEVENT
BEGIN:VTIMEZONE
TZID:America/New_York
X-LIC-LOCATION:America/New_York
BEGIN:STANDARD
DTSTART:20221106T010000
TZOFFSETFROM:-0400
TZOFFSETTO:-0500
TZNAME:EST
END:STANDARD
END:VTIMEZONE
END:VCALENDAR