BEGIN:VCALENDAR
VERSION:2.0
PRODID:-//wp-events-plugin.com//7.2.3.1//EN
TZID:America/New_York
X-WR-TIMEZONE:America/New_York
BEGIN:VEVENT
UID:322@findingconnecticut.com
DTSTART;TZID=America/New_York:20230326T150000
DTEND;TZID=America/New_York:20230326T160000
DTSTAMP:20230215T013541Z
URL:https://findingconnecticut.com/events/weekend-matinee-series-at-lyme-a
 rt-association-3/
SUMMARY:Weekend Matinee Series at Lyme Art Association
DESCRIPTION:Weekend Matinee Series at Lyme Art Association\nMarch 26\, 2023
  • 3 PM - 4 PM\n\nClick here for more information \nLyme Art Associatio
 n\n90 Lyme Street\nOld Lyme\, CT 06371\nTo add an event please email us\, 
 we monitor for spam. We need a photo\, description and website for each su
 bmission - We do not accept submissions that are within the next 3 days. s
 ubmissions@findingconnecticut.com\n\n\n[caption id="attachment_16083" alig
 n="alignnone" width="300"] shop.findingconnecticut.com[/caption]
ATTACH;FMTTYPE=image/jpeg:https://findingconnecticut.com/wp-content/upload
 s/2023/02/PB-portrait-with-rhododendron-alt-1.jpg
CATEGORIES:Old Lyme
LOCATION:Lyme Art Association\, 90 Lyme Street\, Old Lyme\, Connecticut\, 0
 6371\, New England\, United States
X-APPLE-STRUCTURED-LOCATION;VALUE=URI;X-ADDRESS=90 Lyme Street\, Old Lyme\,
  Connecticut\, 06371\, New England\, United States;X-APPLE-RADIUS=100;X-TI
 TLE=Lyme Art Association:geo:0,0
END:VEVENT
BEGIN:VTIMEZONE
TZID:America/New_York
X-LIC-LOCATION:America/New_York
BEGIN:DAYLIGHT
DTSTART:20230312T030000
TZOFFSETFROM:-0500
TZOFFSETTO:-0400
TZNAME:EDT
END:DAYLIGHT
END:VTIMEZONE
END:VCALENDAR