BEGIN:VCALENDAR
VERSION:2.0
PRODID:-//wp-events-plugin.com//7.2.3.1//EN
TZID:America/New_York
X-WR-TIMEZONE:America/New_York
BEGIN:VEVENT
UID:11584@findingconnecticut.com
DTSTART;TZID=America/New_York:20260327T100000
DTEND;TZID=America/New_York:20260327T120000
DTSTAMP:20250627T182413Z
URL:https://findingconnecticut.com/events/we-can-do-it-a-celebration-of-wo
 mens-history-the-bushnell-march-27-2025-10-am/
SUMMARY:We Can Do It: A Celebration of Women’s History
DESCRIPTION:We Can Do It: A Celebration of Women’s History\nMarch 27 2026
   • 10 am\n\n Click here for more information \n\n The Bushnell\n166
  Capitol Ave\nHartford\, CT 06106\n\n Click here to return to Finding Con
 necticut's home page\nAs of March 2025\, all event listings require paymen
 t.\nTo submit your event\, please send the event details along with a phot
 o and/or logo to submissions at findingconnecticut dot com. You can comple
 te your payment here\nYour event will be published within 24 hours after 
 both payment and all required information have been received.\nWe offer di
 scounts for multiple event listings.\nThank you for supporting Finding Co
 nnecticut—your participation helps us grow our website and brand.\n(We d
 o not publish any content that has to do with areas outside of Connecticut
 . If you are looking to post on our Hudson Valley or New York City pages\,
  then contact us via email.)\n\n\n[caption id="attachment_16083" align="al
 ignnone" width="300"] shop.findingconnecticut.com[/caption]\n\n&nbsp\;
ATTACH;FMTTYPE=image/jpeg:https://findingconnecticut.com/wp-content/upload
 s/2025/05/unnamed-57.png
CATEGORIES:Hartford
LOCATION:The Bushnell\, 166 Capitol Ave\, \, Hartford\,\, Connecticut\, \, 
 06106\, \, New England\, \, United States
X-APPLE-STRUCTURED-LOCATION;VALUE=URI;X-ADDRESS=166 Capitol Ave\, \, Hartfo
 rd\,\, Connecticut\, \, 06106\, \, New England\, \, United States;X-APPLE-
 RADIUS=100;X-TITLE=The Bushnell:geo:0,0
END:VEVENT
BEGIN:VTIMEZONE
TZID:America/New_York
X-LIC-LOCATION:America/New_York
BEGIN:DAYLIGHT
DTSTART:20260308T030000
TZOFFSETFROM:-0500
TZOFFSETTO:-0400
TZNAME:EDT
END:DAYLIGHT
END:VTIMEZONE
END:VCALENDAR