BEGIN:VCALENDAR
VERSION:2.0
PRODID:-//wp-events-plugin.com//7.2.3.1//EN
TZID:America/New_York
X-WR-TIMEZONE:America/New_York
BEGIN:VEVENT
UID:1037@findingconnecticut.com
DTSTART;TZID=America/New_York:20230711T200000
DTEND;TZID=America/New_York:20230711T223000
DTSTAMP:20230501T190351Z
URL:https://findingconnecticut.com/events/wayne-newton/
SUMMARY:Wayne Newton
DESCRIPTION:Wayne Newton\nJuly 11\, 2023 • 8 PM\n\n Click here for more 
 information \n\nThe Palace Theater \n100 East Main Street\nWaterbury\, C
 T 06702\n\nTo add an event please email us\, we monitor for spam. We need 
 a photo\, description and website for each submission - We do not accept s
 ubmissions that are within the next 3 days. submissions at findingconnecti
 cut.com\n\n[caption id="attachment_16083" align="alignnone" width="300"] s
 hop.findingconnecticut.com[/caption]
ATTACH;FMTTYPE=image/jpeg:https://findingconnecticut.com/wp-content/upload
 s/2023/05/Screenshot-2023-05-01-at-10.33.25-AM.png
CATEGORIES:Waterbury
LOCATION:Palace Theater\, 100 E Main Street\, Waterbury\, Connecticut\, 067
 02\, New England\, United States
X-APPLE-STRUCTURED-LOCATION;VALUE=URI;X-ADDRESS=100 E Main Street\, Waterbu
 ry\, Connecticut\, 06702\, New England\, United States;X-APPLE-RADIUS=100;
 X-TITLE=Palace Theater:geo:0,0
END:VEVENT
BEGIN:VTIMEZONE
TZID:America/New_York
X-LIC-LOCATION:America/New_York
BEGIN:DAYLIGHT
DTSTART:20230312T030000
TZOFFSETFROM:-0500
TZOFFSETTO:-0400
TZNAME:EDT
END:DAYLIGHT
END:VTIMEZONE
END:VCALENDAR