BEGIN:VCALENDAR
VERSION:2.0
PRODID:-//wp-events-plugin.com//7.2.3.1//EN
TZID:America/New_York
X-WR-TIMEZONE:America/New_York
BEGIN:VEVENT
UID:815@findingconnecticut.com
DTSTART;TZID=America/New_York:20230916T100000
DTEND;TZID=America/New_York:20230916T130000
DTSTAMP:20230326T215620Z
URL:https://findingconnecticut.com/events/waterford-farmers-market-16/
SUMMARY:Waterford Farmer's Market
DESCRIPTION:Waterford Farmer's Market \nSeptember 16\, 2023  •  10 am 
 - 1 pm\n•\n  24 Rope Ferry Rd. (Community Center)\n  Waterford\, CT 06
 385\n•\n\n The mission of the Waterford Farmer’s Market is to provide
  a venue where local farmers\, producers\, and artisans come together to p
 rovide a variety of CT grown vegetables\, fruits\, meats\, cheeses\, baked
  goods and related products directly to the consumer.  When consumers buy
  from locally owned farms and businesses\, they will feel connected to the
 ir community and will be investing in their local economy.  In addition\,
  the summer market hosts local musicians and contributes to strengthening 
 community ties.  Family and dog friendly (summer season).\n•\n To add 
 an event please email us\, we monitor for spam. We need a photo\, descript
 ion and website for each submission - We do not accept submissions that ar
 e within the next 3 days. submissions@findingconnecticut.com\n\n[caption i
 d="attachment_16083" align="alignnone" width="300"] shop.findingconnecticu
 t.com[/caption]\n\n\n\n&nbsp\;\n\n&nbsp\;
ATTACH;FMTTYPE=image/jpeg:https://findingconnecticut.com/wp-content/upload
 s/2023/03/304355042_501493035312781_7650544547029710367_n.jpg
CATEGORIES:Waterford
LOCATION:Waterford Farmers Market\, 24 Rope Ferry Road\, Waterford\, Connec
 ticut \, 06385\, New England \, United States
X-APPLE-STRUCTURED-LOCATION;VALUE=URI;X-ADDRESS=24 Rope Ferry Road\, Waterf
 ord\, Connecticut \, 06385\, New England \, United States;X-APPLE-RADIUS=1
 00;X-TITLE=Waterford Farmers Market:geo:0,0
END:VEVENT
BEGIN:VTIMEZONE
TZID:America/New_York
X-LIC-LOCATION:America/New_York
BEGIN:DAYLIGHT
DTSTART:20230312T030000
TZOFFSETFROM:-0500
TZOFFSETTO:-0400
TZNAME:EDT
END:DAYLIGHT
END:VTIMEZONE
END:VCALENDAR