BEGIN:VCALENDAR
VERSION:2.0
PRODID:-//wp-events-plugin.com//7.2.3.1//EN
TZID:America/New_York
X-WR-TIMEZONE:America/New_York
BEGIN:VEVENT
UID:4042@findingconnecticut.com
DTSTART;TZID=America/New_York:20240517T193000
DTEND;TZID=America/New_York:20240517T213000
DTSTAMP:20231224T151110Z
URL:https://findingconnecticut.com/events/washington-mystics-vs-connecticu
 t-sun-3/
SUMMARY:Washington Mystics  vs Connecticut Sun
DESCRIPTION:Washington Mystics  vs Connecticut Sun\nMay 17\, 2024 • 7:30
  PM\nMohegan Sun \n1 Mohegan Sun Blvd.\nUncasville\, CT 06382\nClick here
  for more information about the Connecticut Sun 2024 Season\nClick here to
  view the Connecticut Sun's full 2024 home schedule\nClick here to learn m
 ore about the Connecticut Sun\nClick here to return to Finding Connecticut
 's home page\nTo add an event please email us\, we monitor for spam. We ne
 ed a photo\, description and website for each submission - We do not accep
 t submissions that are within the next 3 days. submissions@findingconnecti
 cut.com\n\n\n[caption id="attachment_16083" align="alignnone" width="300"]
  shop.findingconnecticut.com[/caption]
ATTACH;FMTTYPE=image/jpeg:https://findingconnecticut.com/wp-content/upload
 s/2022/04/Unknown.png
CATEGORIES:Uncasville
LOCATION:Mohegan Sun\, 1 Mohegan Sun Blvd\, \, Uncasville\, \, Connecticut\
 , \, 06382\, New England \, United States
X-APPLE-STRUCTURED-LOCATION;VALUE=URI;X-ADDRESS=1 Mohegan Sun Blvd\, \, Unc
 asville\, \, Connecticut\, \, 06382\, New England \, United States;X-APPLE
 -RADIUS=100;X-TITLE=Mohegan Sun:geo:0,0
END:VEVENT
BEGIN:VTIMEZONE
TZID:America/New_York
X-LIC-LOCATION:America/New_York
BEGIN:DAYLIGHT
DTSTART:20240310T030000
TZOFFSETFROM:-0500
TZOFFSETTO:-0400
TZNAME:EDT
END:DAYLIGHT
END:VTIMEZONE
END:VCALENDAR