BEGIN:VCALENDAR
VERSION:2.0
PRODID:-//wp-events-plugin.com//7.2.3.1//EN
TZID:America/New_York
X-WR-TIMEZONE:America/New_York
BEGIN:VEVENT
UID:353@findingconnecticut.com
DTSTART;TZID=America/New_York:20230902T100000
DTEND;TZID=America/New_York:20230902T130000
DTSTAMP:20230217T234145Z
URL:https://findingconnecticut.com/events/wallingford-garden-market-17/
SUMMARY:Wallingford Garden Market
DESCRIPTION:Wallingford Garden Market \nSeptember 2\, 2023 • 10 am - 1 p
 m\nOur market features a diverse variety of vendors ranging from fresh pro
 duce\, meats\, specialty foods and baked goods all the way to some local c
 rafters.  There is a large playground for children to play and off street
  parking.  Located within walking distance from the center of town.\n\nDo
 olittle Park\n78 South Elm Street\nWallingford CT 06492\n\n\nTo add an eve
 nt please email us\, we monitor for spam. We need a photo\, description an
 d website for each submission - We do not accept submissions that are with
 in the next 3 days. submissions@findingconnecticut.com\n\n\n[caption id="a
 ttachment_16083" align="alignnone" width="300"] shop.findingconnecticut.co
 m[/caption]\n\n\n
ATTACH;FMTTYPE=image/jpeg:https://findingconnecticut.com/wp-content/upload
 s/2023/02/FB_IMG_1676083195181.jpg
CATEGORIES:Wallingford
LOCATION:Wallingford Garden Market\, 78 South Elm Street \, Wallingford\, C
 T\, 06492\, New England\, United States
X-APPLE-STRUCTURED-LOCATION;VALUE=URI;X-ADDRESS=78 South Elm Street \, Wall
 ingford\, CT\, 06492\, New England\, United States;X-APPLE-RADIUS=100;X-TI
 TLE=Wallingford Garden Market:geo:0,0
END:VEVENT
BEGIN:VTIMEZONE
TZID:America/New_York
X-LIC-LOCATION:America/New_York
BEGIN:DAYLIGHT
DTSTART:20230312T030000
TZOFFSETFROM:-0500
TZOFFSETTO:-0400
TZNAME:EDT
END:DAYLIGHT
END:VTIMEZONE
END:VCALENDAR