BEGIN:VCALENDAR
VERSION:2.0
PRODID:-//wp-events-plugin.com//7.2.3.1//EN
TZID:America/New_York
X-WR-TIMEZONE:America/New_York
BEGIN:VEVENT
UID:5557@findingconnecticut.com
DTSTART;TZID=America/New_York:20240605T110000
DTEND;TZID=America/New_York:20240605T140000
DTSTAMP:20240215T175711Z
URL:https://findingconnecticut.com/events/vermont-lake-monsters-vs-norwich
 -sea-unicorns-5/
SUMMARY:Vermont Lake Monsters  vs Norwich Sea Unicorns
DESCRIPTION:Vermont Lake Monsters vs Norwich Sea Unicorns\nJune 5\, 2024  
 •  11  AM\n\n Click here for more information about the 2024 season 
 \n Click here for more information on the Norwich Sea Unicorns\n\n Dodd 
 Stadium \n 14 Scott Avenue\nNorwich\,  CT 06360\n\nTo add an event plea
 se email us\, we monitor for spam. We need a photo\, description and websi
 te for each submission - We do not   accept submissions that are within t
 he next 3 days. submissions at findingconnecticut.com  \n\n[caption id="
 attachment_16083" align="alignnone" width="300"] shop.findingconnecticut.c
 om[/caption]
ATTACH;FMTTYPE=image/jpeg:https://findingconnecticut.com/wp-content/upload
 s/2021/12/iu.png
CATEGORIES:Norwich
LOCATION:Dodd Stadium\, 14 Scott Ave\, Norwich \, Connecticut \, 06360\, Un
 ited States
X-APPLE-STRUCTURED-LOCATION;VALUE=URI;X-ADDRESS=14 Scott Ave\, Norwich \, C
 onnecticut \, 06360\, United States;X-APPLE-RADIUS=100;X-TITLE=Dodd Stadiu
 m:geo:0,0
END:VEVENT
BEGIN:VTIMEZONE
TZID:America/New_York
X-LIC-LOCATION:America/New_York
BEGIN:DAYLIGHT
DTSTART:20240310T030000
TZOFFSETFROM:-0500
TZOFFSETTO:-0400
TZNAME:EDT
END:DAYLIGHT
END:VTIMEZONE
END:VCALENDAR