BEGIN:VCALENDAR
VERSION:2.0
PRODID:-//wp-events-plugin.com//7.2.3.1//EN
TZID:America/New_York
X-WR-TIMEZONE:America/New_York
BEGIN:VEVENT
UID:5213@findingconnecticut.com
DTSTART;TZID=America/New_York:20240202T200000
DTEND;TZID=America/New_York:20240202T230000
DTSTAMP:20240130T020537Z
URL:https://findingconnecticut.com/events/vanessa-collier/
SUMMARY:Vanessa Collier
DESCRIPTION:Vanessa Collier\nFebruary 2\, 2024\n\n Click here for more inf
 ormation \n The Katherine Hepburn Cultural Arts Center\n 300 Main Stree
 t\n Old Saybrook\, CT 06475\n Click here to return to Finding Connecticu
 t's home page\nTo add an event please email us\, we monitor for spam. We n
 eed a photo\, description and website for each submission - We do not acce
 pt submissions that are within the next 3 days. submissions@findingconnect
 icut.com\n\n\n[caption id="attachment_16083" align="alignnone" width="300"
 ] shop.findingconnecticut.com[/caption]\n\n&nbsp\;\n\n&nbsp\;
ATTACH;FMTTYPE=image/jpeg:https://findingconnecticut.com/wp-content/upload
 s/2024/01/image001-5.jpg
CATEGORIES:Old Saybrook
LOCATION:The Katherine Hepburn Culture Arts Center\, 300 Main Street\, \, O
 ld Saybrook\, \, Connecticut \, 06475\, New England \, United States
X-APPLE-STRUCTURED-LOCATION;VALUE=URI;X-ADDRESS=300 Main Street\, \, Old Sa
 ybrook\, \, Connecticut \, 06475\, New England \, United States;X-APPLE-RA
 DIUS=100;X-TITLE=The Katherine Hepburn Culture Arts Center:geo:0,0
END:VEVENT
BEGIN:VTIMEZONE
TZID:America/New_York
X-LIC-LOCATION:America/New_York
BEGIN:STANDARD
DTSTART:20231105T010000
TZOFFSETFROM:-0400
TZOFFSETTO:-0500
TZNAME:EST
END:STANDARD
END:VTIMEZONE
END:VCALENDAR