BEGIN:VCALENDAR
VERSION:2.0
PRODID:-//wp-events-plugin.com//7.2.3.1//EN
TZID:America/New_York
X-WR-TIMEZONE:America/New_York
BEGIN:VEVENT
UID:329@findingconnecticut.com
DTSTART;TZID=America/New_York:20230426T103000
DTEND;TZID=America/New_York:20230426T133000
DTSTAMP:20230215T173829Z
URL:https://findingconnecticut.com/events/university-of-st-joseph-blue-jay
 s-vs-westfield-state-owls/
SUMMARY:University of St. Joseph Blue Jays vs Westfield State Owls
DESCRIPTION:University of St. Joseph Blue Jays vs Westfield State Owls \nAp
 ril 26\, 2023 •  10:30 AM\n\nClick here for more information \nDunkin 
 Donuts Park \n1214 Main Street\nHartford\, CT 06103\nTo add an event plea
 se email us\, we monitor for spam. We need a photo\, description and websi
 te for each submission - We do not accept submissions that are within the 
 next 3 days. submissions@findingconnecticut.com\n\n\n[caption id="attachme
 nt_16083" align="alignnone" width="300"] shop.findingconnecticut.com[/capt
 ion]
ATTACH;FMTTYPE=image/jpeg:https://findingconnecticut.com/wp-content/upload
 s/2023/02/Screenshot-2023-02-15-at-12.36.59-PM.png
CATEGORIES:Hartford
LOCATION:Dunkin'  Park\, 1214 Main St\, Hartford \, Connecticut \, 06103\, 
 New England\, United States
X-APPLE-STRUCTURED-LOCATION;VALUE=URI;X-ADDRESS=1214 Main St\, Hartford \, 
 Connecticut \, 06103\, New England\, United States;X-APPLE-RADIUS=100;X-TI
 TLE=Dunkin'  Park:geo:0,0
END:VEVENT
BEGIN:VTIMEZONE
TZID:America/New_York
X-LIC-LOCATION:America/New_York
BEGIN:DAYLIGHT
DTSTART:20230312T030000
TZOFFSETFROM:-0500
TZOFFSETTO:-0400
TZNAME:EDT
END:DAYLIGHT
END:VTIMEZONE
END:VCALENDAR