BEGIN:VCALENDAR
VERSION:2.0
PRODID:-//wp-events-plugin.com//7.2.3.1//EN
TZID:America/New_York
X-WR-TIMEZONE:America/New_York
BEGIN:VEVENT
UID:2008@findingconnecticut.com
DTSTART;TZID=America/New_York:20231112T200000
DTEND;TZID=America/New_York:20231112T223000
DTSTAMP:20230721T021414Z
URL:https://findingconnecticut.com/events/under-the-rug/
SUMMARY:Under the Rug
DESCRIPTION:Under the Rug\nNovember 12\, 2023\nClick here for more informat
 ion \n\n Space Ballroom\n425 Treadwell Street\nHamden\, CT 06514\n\nTo a
 dd an event please email us\, we monitor for spam. We need a photo\, descr
 iption and website for each submission - We do not accept submissions that
  are within the next 3 days. submissions at findingconnecticut.com  \n\n
 [caption id="attachment_16083" align="alignnone" width="300"] shop.finding
 connecticut.com[/caption]
ATTACH;FMTTYPE=image/jpeg:https://findingconnecticut.com/wp-content/upload
 s/2023/07/Screenshot-2023-07-20-at-9.31.00-PM.png
CATEGORIES:Hamden
LOCATION:Space Ballroom\, 295 Treadwell St\,\,  Hamden\, \, Connecticut\, \
 , 06514\, United States
X-APPLE-STRUCTURED-LOCATION;VALUE=URI;X-ADDRESS=295 Treadwell St\,\,  Hamde
 n\, \, Connecticut\, \, 06514\, United States;X-APPLE-RADIUS=100;X-TITLE=S
 pace Ballroom:geo:0,0
END:VEVENT
BEGIN:VTIMEZONE
TZID:America/New_York
X-LIC-LOCATION:America/New_York
BEGIN:STANDARD
DTSTART:20231105T010000
TZOFFSETFROM:-0400
TZOFFSETTO:-0500
TZNAME:EST
END:STANDARD
END:VTIMEZONE
END:VCALENDAR