BEGIN:VCALENDAR
VERSION:2.0
PRODID:-//wp-events-plugin.com//7.2.3.1//EN
TZID:America/New_York
X-WR-TIMEZONE:America/New_York
BEGIN:VEVENT
UID:328@findingconnecticut.com
DTSTART;TZID=America/New_York:20230425T180000
DTEND;TZID=America/New_York:20230425T210000
DTSTAMP:20230215T173103Z
URL:https://findingconnecticut.com/events/uconn-huskies-vs-yale-bulldogs/
SUMMARY: UConn Huskies vs Yale Bulldogs
DESCRIPTION:UConn Huskies vs Yale Bulldogs\nApril 25\, 2023 •  6:05 PM\n
 \nClick here for more information \nDunkin Donuts Park \n1214 Main Stree
 t\nHartford\, CT 06103\nTo add an event please email us\, we monitor for s
 pam. We need a photo\, description and website for each submission - We do
  not accept submissions that are within the next 3 days. submissions@findi
 ngconnecticut.com\n\n\n[caption id="attachment_16083" align="alignnone" wi
 dth="300"] shop.findingconnecticut.com[/caption]
ATTACH;FMTTYPE=image/jpeg:https://findingconnecticut.com/wp-content/upload
 s/2021/12/iu-10.jpeg
CATEGORIES:Hartford
LOCATION:Dunkin'  Park\, 1214 Main St\, Hartford \, Connecticut \, 06103\, 
 New England\, United States
X-APPLE-STRUCTURED-LOCATION;VALUE=URI;X-ADDRESS=1214 Main St\, Hartford \, 
 Connecticut \, 06103\, New England\, United States;X-APPLE-RADIUS=100;X-TI
 TLE=Dunkin'  Park:geo:0,0
END:VEVENT
BEGIN:VTIMEZONE
TZID:America/New_York
X-LIC-LOCATION:America/New_York
BEGIN:DAYLIGHT
DTSTART:20230312T030000
TZOFFSETFROM:-0500
TZOFFSETTO:-0400
TZNAME:EDT
END:DAYLIGHT
END:VTIMEZONE
END:VCALENDAR