BEGIN:VCALENDAR
VERSION:2.0
PRODID:-//wp-events-plugin.com//7.2.3.1//EN
TZID:America/New_York
X-WR-TIMEZONE:America/New_York
BEGIN:VEVENT
UID:326@findingconnecticut.com
DTSTART;TZID=America/New_York:20230410T160000
DTEND;TZID=America/New_York:20230410T190000
DTSTAMP:20230215T172519Z
URL:https://findingconnecticut.com/events/uconn-huskies-vs-ccsu-blue-devil
 s/
SUMMARY:UConn Huskies vs CCSU Blue Devils
DESCRIPTION:UConn Huskies vs CCSU Blue Devils\nApril 10\, 2023 •  4:05 P
 M\n\nClick here for more information \nDunkin Donuts Park \n1214 Main St
 reet\nHartford\, CT 06103\nTo add an event please email us\, we monitor fo
 r spam. We need a photo\, description and website for each submission - We
  do not accept submissions that are within the next 3 days. submissions@fi
 ndingconnecticut.com\n\n\n[caption id="attachment_16083" align="alignnone"
  width="300"] shop.findingconnecticut.com[/caption]
ATTACH;FMTTYPE=image/jpeg:https://findingconnecticut.com/wp-content/upload
 s/2022/04/Primary-Dog.jpg
CATEGORIES:Hartford
LOCATION:Dunkin'  Park\, 1214 Main St\, Hartford \, Connecticut \, 06103\, 
 New England\, United States
X-APPLE-STRUCTURED-LOCATION;VALUE=URI;X-ADDRESS=1214 Main St\, Hartford \, 
 Connecticut \, 06103\, New England\, United States;X-APPLE-RADIUS=100;X-TI
 TLE=Dunkin'  Park:geo:0,0
END:VEVENT
BEGIN:VTIMEZONE
TZID:America/New_York
X-LIC-LOCATION:America/New_York
BEGIN:DAYLIGHT
DTSTART:20230312T030000
TZOFFSETFROM:-0500
TZOFFSETTO:-0400
TZNAME:EDT
END:DAYLIGHT
END:VTIMEZONE
END:VCALENDAR