BEGIN:VCALENDAR
VERSION:2.0
PRODID:-//wp-events-plugin.com//7.2.3.1//EN
TZID:America/New_York
X-WR-TIMEZONE:America/New_York
BEGIN:VEVENT
UID:1047@findingconnecticut.com
DTSTART;TZID=America/New_York:20230721T150000
DTEND;TZID=America/New_York:20230721T223000
DTSTAMP:20230505T013315Z
URL:https://findingconnecticut.com/events/twiddle/
SUMMARY:Twiddle
DESCRIPTION:Twiddle\nJuly 21\, 2023 • 3 PM\n\nClick here for more informa
 tion \n\n Levitt Pavilion \n40 Jessup Road\nWestport\, CT 06880\n\nTo a
 dd an event please email us\, we monitor for spam. We need a photo\, descr
 iption and website for each submission - We do not accept submissions that
  are within the next 3 days. submissions at findingconnecticut.com  \n\n
 [caption id="attachment_16083" align="alignnone" width="300"] shop.finding
 connecticut.com[/caption]
ATTACH;FMTTYPE=image/jpeg:https://findingconnecticut.com/wp-content/upload
 s/2023/05/unnamed-1-1.jpg
CATEGORIES:Westport
LOCATION:Levitt Pavilion\, 40 Jessup Road\, Westport \, Connecticut \, 0688
 0\, United States
X-APPLE-STRUCTURED-LOCATION;VALUE=URI;X-ADDRESS=40 Jessup Road\, Westport \
 , Connecticut \, 06880\, United States;X-APPLE-RADIUS=100;X-TITLE=Levitt P
 avilion:geo:0,0
END:VEVENT
BEGIN:VTIMEZONE
TZID:America/New_York
X-LIC-LOCATION:America/New_York
BEGIN:DAYLIGHT
DTSTART:20230312T030000
TZOFFSETFROM:-0500
TZOFFSETTO:-0400
TZNAME:EDT
END:DAYLIGHT
END:VTIMEZONE
END:VCALENDAR