BEGIN:VCALENDAR
VERSION:2.0
PRODID:-//wp-events-plugin.com//7.2.3.1//EN
TZID:America/New_York
X-WR-TIMEZONE:America/New_York
BEGIN:VEVENT
UID:13222@findingconnecticut.com
DTSTART;TZID=America/New_York:20251112T080000
DTEND;TZID=America/New_York:20251112T130000
DTSTAMP:20251024T205257Z
URL:https://findingconnecticut.com/events/turkey-drive-goodwin-university-
 east-hartford-ct/
SUMMARY:Turkey drive
DESCRIPTION:Turkey drive\nNovember 12\, 2025\n Click here for more informa
 tion \n\n[caption id="attachment_16083" align="alignnone" width="300"] sh
 op.findingconnecticut.com[/caption]
ATTACH;FMTTYPE=image/jpeg:https://findingconnecticut.com/wp-content/upload
 s/2025/10/DSC03186-1.jpg
CATEGORIES:East Hartford,Ridgefield
LOCATION:Goodwin University\, 167 Riverside Drive\, East Hartford\, Connect
 icut \,  06118\, New England\, United States
X-APPLE-STRUCTURED-LOCATION;VALUE=URI;X-ADDRESS=167 Riverside Drive\, East 
 Hartford\, Connecticut \,  06118\, New England\, United States;X-APPLE-RAD
 IUS=100;X-TITLE=Goodwin University:geo:0,0
END:VEVENT
BEGIN:VTIMEZONE
TZID:America/New_York
X-LIC-LOCATION:America/New_York
BEGIN:STANDARD
DTSTART:20251102T010000
TZOFFSETFROM:-0400
TZOFFSETTO:-0500
TZNAME:EST
END:STANDARD
END:VTIMEZONE
END:VCALENDAR