BEGIN:VCALENDAR
VERSION:2.0
PRODID:-//wp-events-plugin.com//7.2.3.1//EN
TZID:America/New_York
X-WR-TIMEZONE:America/New_York
BEGIN:VEVENT
UID:14705@findingconnecticut.com
DTSTART;TZID=America/New_York:20260713T200000
DTEND;TZID=America/New_York:20260713T223000
DTSTAMP:20260305T003715Z
URL:https://findingconnecticut.com/events/trombone-shorty/
SUMMARY:Trombone Shorty
DESCRIPTION:Trombone Shorty\nJuly 13\, 2026\n\n Click here for more inform
 ation \n\n Ridgefield Playhouse \n80 East Ridge\nRidgefield\, CT 06877\
 n\nAs of March 2025\, all event listings require payment.\nTo submit your 
 event\, please send the event details along with a photo and/or logo to su
 bmissions at findingconnecticut dot com. You can complete your payment he
 re\nYour event will be published within 24 hours after both payment and al
 l required information have been received.\nWe offer discounts for multipl
 e event listings.\nThank you for supporting Finding Connecticut—your pa
 rticipation helps us grow our website and brand.\n(We do not publish any c
 ontent that has to do with areas outside of Connecticut. If you are lookin
 g to post on our Hudson Valley or New York City pages\, then contact us vi
 a email.)\n\n\n[caption id="attachment_16083" align="alignnone" width="300
 "] shop.findingconnecticut.com[/caption]
ATTACH;FMTTYPE=image/jpeg:https://findingconnecticut.com/wp-content/upload
 s/2026/02/2026-SUMMER-TROMBONE-Admat-_1080x1350-POST_-ALL.jpg
CATEGORIES:Ridgefield
LOCATION:Ridgefield Playhouse\, 80 E Ridge Rd\, Ridgefield\, Connecticut\, 
 06877\, New England\, United States
X-APPLE-STRUCTURED-LOCATION;VALUE=URI;X-ADDRESS=80 E Ridge Rd\, Ridgefield\
 , Connecticut\, 06877\, New England\, United States;X-APPLE-RADIUS=100;X-T
 ITLE=Ridgefield Playhouse:geo:0,0
END:VEVENT
BEGIN:VTIMEZONE
TZID:America/New_York
X-LIC-LOCATION:America/New_York
BEGIN:DAYLIGHT
DTSTART:20260308T030000
TZOFFSETFROM:-0500
TZOFFSETTO:-0400
TZNAME:EDT
END:DAYLIGHT
END:VTIMEZONE
END:VCALENDAR