BEGIN:VCALENDAR
VERSION:2.0
PRODID:-//wp-events-plugin.com//7.2.3.1//EN
TZID:America/New_York
X-WR-TIMEZONE:America/New_York
BEGIN:VEVENT
UID:349@findingconnecticut.com
DTSTART;TZID=America/New_York:20230623T190000
DTEND;TZID=America/New_York:20230623T224500
DTSTAMP:20230216T192850Z
URL:https://findingconnecticut.com/events/trombone-shorty-and-orleans-aven
 ue-with-yola-mavis-staples-robert-randolph-band-and-devon-gilfillian/
SUMMARY:Trombone Shorty and Orleans Avenue with Yola\, Mavis Staples\, Robe
 rt Randolph Band and Devon Gilfillian
DESCRIPTION:Trombone Shorty and Orleans Avenue with Yola\, Mavis Staples\, 
 Robert Randolph Band and Devon Gilfillian\nJune 20\, 2023 • 7 PM\n\nClic
 k here for more information \nHartford Healthcare Amphitheater\n500 Broad
  Street\nBridgeport\, CT 06604\nTo add an event please email us\, we monit
 or for spam. We need a photo\, description and website for each submission
  - We do not accept submissions that are within the next 3 days. submissio
 ns@findingconnecticut.com\n\n\n[caption id="attachment_16083" align="align
 none" width="300"] shop.findingconnecticut.com[/caption]
ATTACH;FMTTYPE=image/jpeg:https://findingconnecticut.com/wp-content/upload
 s/2023/02/Screenshot-2023-02-16-at-2.07.50-PM.png
CATEGORIES:Bridgeport
LOCATION:Hartford HealthCare Amphitheater\, 500 Broad St\, \, Bridgeport\, 
 \, Connecticut\, \, 06604\,\, New England\, \, United States
X-APPLE-STRUCTURED-LOCATION;VALUE=URI;X-ADDRESS=500 Broad St\, \, Bridgepor
 t\, \, Connecticut\, \, 06604\,\, New England\, \, United States;X-APPLE-R
 ADIUS=100;X-TITLE=Hartford HealthCare Amphitheater:geo:0,0
END:VEVENT
BEGIN:VTIMEZONE
TZID:America/New_York
X-LIC-LOCATION:America/New_York
BEGIN:DAYLIGHT
DTSTART:20230312T030000
TZOFFSETFROM:-0500
TZOFFSETTO:-0400
TZNAME:EDT
END:DAYLIGHT
END:VTIMEZONE
END:VCALENDAR