BEGIN:VCALENDAR
VERSION:2.0
PRODID:-//wp-events-plugin.com//7.2.3.1//EN
TZID:America/New_York
X-WR-TIMEZONE:America/New_York
BEGIN:VEVENT
UID:172@findingconnecticut.com
DTSTART;TZID=America/New_York:20230513T183000
DTEND;TZID=America/New_York:20230513T223000
DTSTAMP:20230131T221146Z
URL:https://findingconnecticut.com/events/trivium-beartooth-w-malevolence-
 archetypes-collide/
SUMMARY:Trivium & Beartooth w/ Malevolence\, Archetypes Collide
DESCRIPTION:Trivium &amp\; Beartooth w/ Malevolence\, Archetypes Colli
 de\nSaturday May 13\, 2023 • 6:30PM\n\nFor more information click here\n
 College Street Music Hall\n238 College Street\nNew Haven\, CT 06510\nTo ad
 d an event please email us\, we monitor for spam. We need a photo\, descri
 ption and website for each submission - We do not accept submissions that 
 are within the next 3 days. submissions@findingconnecticut.com\n\n\n[capti
 on id="attachment_16083" align="alignnone" width="300"] shop.findingconnec
 ticut.com[/caption]
ATTACH;FMTTYPE=image/jpeg:https://findingconnecticut.com/wp-content/upload
 s/2023/01/Screenshot-2023-01-31-at-4.24.43-PM.png
CATEGORIES:New Haven
LOCATION:College Street Music Hall\, 238 College St\, \, New Haven\, \, Con
 necticut \, 06510\, New England \, United States
X-APPLE-STRUCTURED-LOCATION;VALUE=URI;X-ADDRESS=238 College St\, \, New Hav
 en\, \, Connecticut \, 06510\, New England \, United States;X-APPLE-RADIUS
 =100;X-TITLE=College Street Music Hall:geo:0,0
END:VEVENT
BEGIN:VTIMEZONE
TZID:America/New_York
X-LIC-LOCATION:America/New_York
BEGIN:DAYLIGHT
DTSTART:20230312T030000
TZOFFSETFROM:-0500
TZOFFSETTO:-0400
TZNAME:EDT
END:DAYLIGHT
END:VTIMEZONE
END:VCALENDAR