BEGIN:VCALENDAR
VERSION:2.0
PRODID:-//wp-events-plugin.com//7.2.3.1//EN
TZID:America/New_York
X-WR-TIMEZONE:America/New_York
BEGIN:VEVENT
UID:14738@findingconnecticut.com
DTSTART;TZID=America/New_York:20260425T200000
DTEND;TZID=America/New_York:20260425T220000
DTSTAMP:20260310T152759Z
URL:https://findingconnecticut.com/events/trevor-wallace-and-michael-blaus
 tein-district-music-hall-norwalk-ct-april-25-2026/
SUMMARY:Trevor Wallace and Michael Blaustein
DESCRIPTION:Trevor Wallace and Michael Blaustein\nApril 25\, 2026\n\n Clic
 k here for more information \n\nDistrict Music Hall\n71 Wall Street\nNorw
 alk\, Connecticut 06850\nAs of March 2025\, all event listings require pay
 ment.\nTo submit your event\, please send the event details along with a p
 hoto and/or logo to submissions at findingconnecticut dot com. You can com
 plete your payment here\nYour event will be published within 24 hours aft
 er both payment and all required information have been received.\nWe offer
  discounts for multiple event listings.\nThank you for supporting Finding
  Connecticut—your participation helps us grow our website and brand.\n\n
 \n[caption id="attachment_16083" align="alignnone" width="300"] shop.findi
 ngconnecticut.com[/caption]
ATTACH;FMTTYPE=image/jpeg:https://findingconnecticut.com/wp-content/upload
 s/2024/03/District-Music-Hall-Outside-1.jpg
CATEGORIES:Norwalk
LOCATION:District Music Hall\, 71 Wall Street\, Norwalk\, Connecticut \, 06
 850\, New England \, United States
X-APPLE-STRUCTURED-LOCATION;VALUE=URI;X-ADDRESS=71 Wall Street\, Norwalk\, 
 Connecticut \, 06850\, New England \, United States;X-APPLE-RADIUS=100;X-T
 ITLE=District Music Hall:geo:0,0
END:VEVENT
BEGIN:VTIMEZONE
TZID:America/New_York
X-LIC-LOCATION:America/New_York
BEGIN:DAYLIGHT
DTSTART:20260308T030000
TZOFFSETFROM:-0500
TZOFFSETTO:-0400
TZNAME:EDT
END:DAYLIGHT
END:VTIMEZONE
END:VCALENDAR