BEGIN:VCALENDAR
VERSION:2.0
PRODID:-//wp-events-plugin.com//7.2.3.1//EN
TZID:America/New_York
X-WR-TIMEZONE:America/New_York
BEGIN:VEVENT
UID:5833@findingconnecticut.com
DTSTART;TZID=America/New_York:20241005T200000
DTEND;TZID=America/New_York:20241005T223000
DTSTAMP:20240503T214735Z
URL:https://findingconnecticut.com/events/treatment-kreator/
SUMMARY:Treatment / Kreator
DESCRIPTION:Treatment / Kreator\nOctober 5\, 2024\n\n  Click here for mor
 e information \n\n  College Street Music Hall\n238 College Street\nNew H
 aven\, CT 06510\n\nClick here to return to Finding Connecticut's home page
 \n\nTo add an event please email us\, we monitor for spam. We need a photo
 \, description and website for each submission - We do not accept submissi
 ons that are within the next 3 days. submissions at findingconnecticut.com
 \n\n[caption id="attachment_16083" align="alignnone" width="300"] shop.fin
 dingconnecticut.com[/caption]
ATTACH;FMTTYPE=image/jpeg:https://findingconnecticut.com/wp-content/upload
 s/2024/04/testament_preview-scaled.jpg
CATEGORIES:New Haven
LOCATION:College Street Music Hall\, 238 College St\, \, New Haven\, \, Con
 necticut \, 06510\, New England \, United States
X-APPLE-STRUCTURED-LOCATION;VALUE=URI;X-ADDRESS=238 College St\, \, New Hav
 en\, \, Connecticut \, 06510\, New England \, United States;X-APPLE-RADIUS
 =100;X-TITLE=College Street Music Hall:geo:0,0
END:VEVENT
BEGIN:VTIMEZONE
TZID:America/New_York
X-LIC-LOCATION:America/New_York
BEGIN:DAYLIGHT
DTSTART:20240310T030000
TZOFFSETFROM:-0500
TZOFFSETTO:-0400
TZNAME:EDT
END:DAYLIGHT
END:VTIMEZONE
END:VCALENDAR