BEGIN:VCALENDAR
VERSION:2.0
PRODID:-//wp-events-plugin.com//7.2.3.1//EN
TZID:America/New_York
X-WR-TIMEZONE:America/New_York
BEGIN:VEVENT
UID:719@findingconnecticut.com
DTSTART;TZID=America/New_York:20230325T200000
DTEND;TZID=America/New_York:20230325T220000
DTSTAMP:20230316T220354Z
URL:https://findingconnecticut.com/events/todd-barry/
SUMMARY:Todd Barry
DESCRIPTION:Todd Barry\nMarch 25\, 2023   •  8 PM\n\nClick here for mor
 e information \n\nThe Katherine Hepburn Cultural Arts Center\n300 Main St
 reet\nOld Saybrook\, CT 06475\n\nTo add an event please email us\, we moni
 tor for spam. We need a photo\, description and website for each submissio
 n - We do not accept submissions that are within the next 3 days. submissi
 ons@findingconnecticut.com\n\n[caption id="attachment_16083" align="alignn
 one" width="300"] shop.findingconnecticut.com[/caption]
ATTACH;FMTTYPE=image/jpeg:https://findingconnecticut.com/wp-content/upload
 s/2023/03/image002-10.jpg
CATEGORIES:Old Saybrook
LOCATION:The Katherine Hepburn Culture Arts Center\, 300 Main Street\, \, O
 ld Saybrook\, \, Connecticut \, 06475\, New England \, United States
X-APPLE-STRUCTURED-LOCATION;VALUE=URI;X-ADDRESS=300 Main Street\, \, Old Sa
 ybrook\, \, Connecticut \, 06475\, New England \, United States;X-APPLE-RA
 DIUS=100;X-TITLE=The Katherine Hepburn Culture Arts Center:geo:0,0
END:VEVENT
BEGIN:VTIMEZONE
TZID:America/New_York
X-LIC-LOCATION:America/New_York
BEGIN:DAYLIGHT
DTSTART:20230312T030000
TZOFFSETFROM:-0500
TZOFFSETTO:-0400
TZNAME:EDT
END:DAYLIGHT
END:VTIMEZONE
END:VCALENDAR