BEGIN:VCALENDAR
VERSION:2.0
PRODID:-//wp-events-plugin.com//7.2.3.1//EN
TZID:America/New_York
X-WR-TIMEZONE:America/New_York
BEGIN:VEVENT
UID:709@findingconnecticut.com
DTSTART;TZID=America/New_York:20230412T193000
DTEND;TZID=America/New_York:20230412T220000
DTSTAMP:20230314T142206Z
URL:https://findingconnecticut.com/events/tina-the-musical-2/
SUMMARY:Tina The Musical
DESCRIPTION:Tina The Musical\nApril 12\, 2023  • 7:30 PM\n\nClick here f
 or more information \n\nThe Bushnell \n166 Capitol Ave\nHartford\, CT 06
 106\n\nTo add an event please email us\, we monitor for spam. We need a ph
 oto\, description and website for each submission - We do not accept submi
 ssions that are within the next 3 days. submissions@findingconnecticut.com
 \n\n[caption id="attachment_16083" align="alignnone" width="300"] shop.fin
 dingconnecticut.com[/caption]
ATTACH;FMTTYPE=image/jpeg:https://findingconnecticut.com/wp-content/upload
 s/2023/03/unnamed-55.png
CATEGORIES:Hartford
LOCATION:The Bushnell\, 166 Capitol Ave\, \, Hartford\,\, Connecticut\, \, 
 06106\, \, New England\, \, United States
X-APPLE-STRUCTURED-LOCATION;VALUE=URI;X-ADDRESS=166 Capitol Ave\, \, Hartfo
 rd\,\, Connecticut\, \, 06106\, \, New England\, \, United States;X-APPLE-
 RADIUS=100;X-TITLE=The Bushnell:geo:0,0
END:VEVENT
BEGIN:VTIMEZONE
TZID:America/New_York
X-LIC-LOCATION:America/New_York
BEGIN:DAYLIGHT
DTSTART:20230312T030000
TZOFFSETFROM:-0500
TZOFFSETTO:-0400
TZNAME:EDT
END:DAYLIGHT
END:VTIMEZONE
END:VCALENDAR