BEGIN:VCALENDAR
VERSION:2.0
PRODID:-//wp-events-plugin.com//7.2.3.1//EN
TZID:America/New_York
X-WR-TIMEZONE:America/New_York
BEGIN:VEVENT
UID:1470@findingconnecticut.com
DTSTART;TZID=America/New_York:20230610T100000
DTEND;TZID=America/New_York:20230610T140000
DTSTAMP:20230607T234756Z
URL:https://findingconnecticut.com/events/themeless-opening-reception/
SUMMARY:Themeless: Opening Reception
DESCRIPTION:Themeless: Opening Reception\nJune 10\, 2023 • 10 am - 2 pm\n
 \n Visit our art exhibits\, shop in our Gallery Shop &amp\; tour our cowo
 rking &amp\; meeting spaces. Live entertainment by Imgaine Main Street and
  art demonstrations and/or craft projects for the whole family.\n\nWorkSpa
 ce\n903 Main Street\nManchester\, CT 06040\n\nTo add an event please email
  us\, we monitor for spam. We need a photo\, description and website for e
 ach submission - We do not accept submissions that are within the next 3 d
 ays. submissions at findingconnecticut.com\n\n[caption id="attachment_1608
 3" align="alignnone" width="300"] shop.findingconnecticut.com[/caption]\n\
 n 
ATTACH;FMTTYPE=image/jpeg:https://findingconnecticut.com/wp-content/upload
 s/2023/06/Screenshot-2023-06-07-at-7.43.16-PM.png
CATEGORIES:Manchester
LOCATION:Workspace\, 903 Main Street\, Manchester\, Connecticut \, 06040\, 
 United States
X-APPLE-STRUCTURED-LOCATION;VALUE=URI;X-ADDRESS=903 Main Street\, Mancheste
 r\, Connecticut \, 06040\, United States;X-APPLE-RADIUS=100;X-TITLE=Worksp
 ace:geo:0,0
END:VEVENT
BEGIN:VTIMEZONE
TZID:America/New_York
X-LIC-LOCATION:America/New_York
BEGIN:DAYLIGHT
DTSTART:20230312T030000
TZOFFSETFROM:-0500
TZOFFSETTO:-0400
TZNAME:EDT
END:DAYLIGHT
END:VTIMEZONE
END:VCALENDAR