BEGIN:VCALENDAR
VERSION:2.0
PRODID:-//wp-events-plugin.com//7.2.3.1//EN
TZID:America/New_York
X-WR-TIMEZONE:America/New_York
BEGIN:VEVENT
UID:2597@findingconnecticut.com
DTSTART;TZID=America/New_York:20231105T100000
DTEND;TZID=America/New_York:20231105T173000
DTSTAMP:20230827T004726Z
URL:https://findingconnecticut.com/events/the-wonderful-wizard-of-oz-corn-
 maze/
SUMMARY:The Wonderful Wizard of Oz corn maze
DESCRIPTION:The Wonderful Wizard of Oz corn maze\nNovember 5\, 2023  • 1
 0 am - 5:30 pm\n Click here for more information \n\n Lyman Orchards\nP
 owder Hill Rd\nMiddlefield\, CT 06455\n\nTo add an event please email us\,
  we monitor for spam. We need a photo\, description and website for each s
 ubmission - We do not accept submissions that are within the next 3 days. 
 submissions at findingconnecticut.com  \n\n[caption id="attachment_16083
 " align="alignnone" width="300"] shop.findingconnecticut.com[/caption]\n\n
 &nbsp\;
ATTACH;FMTTYPE=image/jpeg:https://findingconnecticut.com/wp-content/upload
 s/2023/08/Lyman-Orchards-Wonderful-Wizard-of-Oz-Corn-Maze-Begins-September
 -2nd.jpg
CATEGORIES:Middlefield
LOCATION:Lyman Orchards\, Powder Hill Rd\, Middlefield \, Connecticut\, 064
 55\, United States
X-APPLE-STRUCTURED-LOCATION;VALUE=URI;X-ADDRESS=Powder Hill Rd\, Middlefiel
 d \, Connecticut\, 06455\, United States;X-APPLE-RADIUS=100;X-TITLE=Lyman 
 Orchards:geo:0,0
END:VEVENT
BEGIN:VTIMEZONE
TZID:America/New_York
X-LIC-LOCATION:America/New_York
BEGIN:STANDARD
DTSTART:20231105T010000
TZOFFSETFROM:-0400
TZOFFSETTO:-0500
TZNAME:EST
END:STANDARD
END:VTIMEZONE
END:VCALENDAR