BEGIN:VCALENDAR
VERSION:2.0
PRODID:-//wp-events-plugin.com//7.2.3.1//EN
TZID:America/New_York
X-WR-TIMEZONE:America/New_York
BEGIN:VEVENT
UID:2636@findingconnecticut.com
DTSTART;TZID=America/New_York:20231025T130000
DTEND;TZID=America/New_York:20231025T173000
DTSTAMP:20230827T005507Z
URL:https://findingconnecticut.com/events/the-wonderful-wizard-of-oz-corn-
 maze-2023-10-25/
SUMMARY:The Wonderful Wizard of Oz corn maze
DESCRIPTION:The Wonderful Wizard of Oz corn maze\n1 pm - 5:30 pm\n Click h
 ere for more information \n\n Lyman Orchards\nPowder Hill Rd\nMiddlefiel
 d\, CT 06455\n\nTo add an event please email us\, we monitor for spam. We 
 need a photo\, description and website for each submission - We do not acc
 ept submissions that are within the next 3 days. submissions at findingcon
 necticut.com\n\n[caption id="attachment_16083" align="alignnone" width="30
 0"] shop.findingconnecticut.com[/caption]
ATTACH;FMTTYPE=image/jpeg:https://findingconnecticut.com/wp-content/upload
 s/2023/08/Lyman-Orchards-Wonderful-Wizard-of-Oz-Corn-Maze-Begins-September
 -2nd.jpg
CATEGORIES:Middlefield
LOCATION:Lyman Orchards\, Powder Hill Rd\, Middlefield \, Connecticut\, 064
 55\, United States
X-APPLE-STRUCTURED-LOCATION;VALUE=URI;X-ADDRESS=Powder Hill Rd\, Middlefiel
 d \, Connecticut\, 06455\, United States;X-APPLE-RADIUS=100;X-TITLE=Lyman 
 Orchards:geo:0,0
END:VEVENT
BEGIN:VTIMEZONE
TZID:America/New_York
X-LIC-LOCATION:America/New_York
BEGIN:DAYLIGHT
DTSTART:20230312T030000
TZOFFSETFROM:-0500
TZOFFSETTO:-0400
TZNAME:EDT
END:DAYLIGHT
END:VTIMEZONE
END:VCALENDAR