BEGIN:VCALENDAR
VERSION:2.0
PRODID:-//wp-events-plugin.com//7.2.3.1//EN
TZID:America/New_York
X-WR-TIMEZONE:America/New_York
BEGIN:VEVENT
UID:1477@findingconnecticut.com
DTSTART;TZID=America/New_York:20231021T200000
DTEND;TZID=America/New_York:20231021T223000
DTSTAMP:20230608T191604Z
URL:https://findingconnecticut.com/events/the-wonder-years-the-greatest-ge
 neration-10th-anniversary-tour/
SUMMARY:The Wonder Years: The Greatest Generation 10th Anniversary Tour
DESCRIPTION:The Wonder Years: The Greatest Generation 10th Anniversary Tour
 \nOctober 21\, 2023  •  8 PM\n\n Click here for more information \n\
 nCollege Street Music Hall\n238 College Street\nNew Haven\, CT 06510\n\nTo
  add an event please email us\, we monitor for spam. We need a photo\, des
 cription and website for each submission - We do not accept submissions th
 at are within the next 3 days. submissions at findingconnecticut.com  \n
 \n[caption id="attachment_16083" align="alignnone" width="300"] shop.findi
 ngconnecticut.com[/caption]
ATTACH;FMTTYPE=image/jpeg:https://findingconnecticut.com/wp-content/upload
 s/2023/06/Screenshot-2023-06-08-at-9.28.03-AM.png
CATEGORIES:New Haven
LOCATION:College Street Music Hall\, 238 College St\, \, New Haven\, \, Con
 necticut \, 06510\, New England \, United States
X-APPLE-STRUCTURED-LOCATION;VALUE=URI;X-ADDRESS=238 College St\, \, New Hav
 en\, \, Connecticut \, 06510\, New England \, United States;X-APPLE-RADIUS
 =100;X-TITLE=College Street Music Hall:geo:0,0
END:VEVENT
BEGIN:VTIMEZONE
TZID:America/New_York
X-LIC-LOCATION:America/New_York
BEGIN:DAYLIGHT
DTSTART:20230312T030000
TZOFFSETFROM:-0500
TZOFFSETTO:-0400
TZNAME:EDT
END:DAYLIGHT
END:VTIMEZONE
END:VCALENDAR