BEGIN:VCALENDAR
VERSION:2.0
PRODID:-//wp-events-plugin.com//7.2.3.1//EN
TZID:America/New_York
X-WR-TIMEZONE:America/New_York
BEGIN:VEVENT
UID:736@findingconnecticut.com
DTSTART;TZID=America/New_York:20230413T193000
DTEND;TZID=America/New_York:20230413T220000
DTSTAMP:20230324T192934Z
URL:https://findingconnecticut.com/events/the-winters-tale/
SUMMARY:The Winter's Tale
DESCRIPTION:The Winter's Tale\nApril 13\, 2023  •  7\;30 PM\n\n   Cli
 ck here for more information \n\n   Hartford Stage \n50 Church Street\
 n   Hartford\, CT 06103\n\nTo add an event please email us\, we monitor 
 for spam. We need a photo\, description and website for each submission - 
 We do not accept submissions that are within the next 3 days. submissions@
 findingconnecticut.com\n\n[caption id="attachment_16083" align="alignnone"
  width="300"] shop.findingconnecticut.com[/caption]
ATTACH;FMTTYPE=image/jpeg:https://findingconnecticut.com/wp-content/upload
 s/2023/03/unnamed-57.png
CATEGORIES:Hartford
LOCATION:Hartford Stage\, 50 Church Street \, Hartford\, Connecticut \, 061
 03\, United States
X-APPLE-STRUCTURED-LOCATION;VALUE=URI;X-ADDRESS=50 Church Street \, Hartfor
 d\, Connecticut \, 06103\, United States;X-APPLE-RADIUS=100;X-TITLE=Hartfo
 rd Stage:geo:0,0
END:VEVENT
BEGIN:VTIMEZONE
TZID:America/New_York
X-LIC-LOCATION:America/New_York
BEGIN:DAYLIGHT
DTSTART:20230312T030000
TZOFFSETFROM:-0500
TZOFFSETTO:-0400
TZNAME:EDT
END:DAYLIGHT
END:VTIMEZONE
END:VCALENDAR