BEGIN:VCALENDAR
VERSION:2.0
PRODID:-//wp-events-plugin.com//7.2.3.1//EN
TZID:America/New_York
X-WR-TIMEZONE:America/New_York
BEGIN:VEVENT
UID:2949@findingconnecticut.com
DTSTART;TZID=America/New_York:20230827T190000
DTEND;TZID=America/New_York:20230827T230000
DTSTAMP:20231011T183536Z
URL:https://findingconnecticut.com/events/the-warrens-seekers-of-the-super
 natural-phantasma-con/
SUMMARY:The Warren’s Seekers of the Supernatural Phantasma-Con
DESCRIPTION:The Warren’s Seekers of the Supernatural Phantasma-Con\n\nOct
 ober 27\, 2024 • 7 pm\nClick here for more information \n\nMohegan Sun
  \n1 Mohegan Sun Blvd.\nUncasville\, CT 06382\n\nTo add an event please e
 mail us\, we monitor for spam. We need a photo\, description and website f
 or each submission - We do not accept submissions that are within the next
  3 days. submissions@findingconnecticut.com\n\n[caption id="attachment_160
 83" align="alignnone" width="300"] shop.findingconnecticut.com[/caption]
ATTACH;FMTTYPE=image/jpeg:https://findingconnecticut.com/wp-content/upload
 s/2023/10/unnamed-26.jpg
CATEGORIES:Uncasville
LOCATION:Mohegan Sun\, 1 Mohegan Sun Blvd\, \, Uncasville\, \, Connecticut\
 , \, 06382\, New England \, United States
X-APPLE-STRUCTURED-LOCATION;VALUE=URI;X-ADDRESS=1 Mohegan Sun Blvd\, \, Unc
 asville\, \, Connecticut\, \, 06382\, New England \, United States;X-APPLE
 -RADIUS=100;X-TITLE=Mohegan Sun:geo:0,0
END:VEVENT
BEGIN:VTIMEZONE
TZID:America/New_York
X-LIC-LOCATION:America/New_York
BEGIN:DAYLIGHT
DTSTART:20230312T030000
TZOFFSETFROM:-0500
TZOFFSETTO:-0400
TZNAME:EDT
END:DAYLIGHT
END:VTIMEZONE
END:VCALENDAR