BEGIN:VCALENDAR
VERSION:2.0
PRODID:-//wp-events-plugin.com//7.2.3.1//EN
TZID:America/New_York
X-WR-TIMEZONE:America/New_York
BEGIN:VEVENT
UID:1843@findingconnecticut.com
DTSTART;TZID=America/New_York:20230722T200000
DTEND;TZID=America/New_York:20230722T223000
DTSTAMP:20230711T150517Z
URL:https://findingconnecticut.com/events/the-sweet-remains/
SUMMARY:The Sweet Remains
DESCRIPTION:The Sweet Remains\nJuly 22\, 2023\nClick here for more informat
 ion \n\n XL Center\n1 Civic Center Plaza\nHartford\, CT 06103\n\nTo add 
 an event please email us\, we monitor for spam. We need a photo\, descript
 ion and website for each submission - We do not accept submissions that ar
 e within the next 3 days. submissions at findingconnecticut.com\n\n[captio
 n id="attachment_16083" align="alignnone" width="300"] shop.findingconnect
 icut.com[/caption]
ATTACH;FMTTYPE=image/jpeg:https://findingconnecticut.com/wp-content/upload
 s/2023/07/image002-10.jpg
CATEGORIES:Old Saybrook
LOCATION:The Katherine Hepburn Culture Arts Center\, 300 Main Street\, \, O
 ld Saybrook\, \, Connecticut \, 06475\, New England \, United States
X-APPLE-STRUCTURED-LOCATION;VALUE=URI;X-ADDRESS=300 Main Street\, \, Old Sa
 ybrook\, \, Connecticut \, 06475\, New England \, United States;X-APPLE-RA
 DIUS=100;X-TITLE=The Katherine Hepburn Culture Arts Center:geo:0,0
END:VEVENT
BEGIN:VTIMEZONE
TZID:America/New_York
X-LIC-LOCATION:America/New_York
BEGIN:DAYLIGHT
DTSTART:20230312T030000
TZOFFSETFROM:-0500
TZOFFSETTO:-0400
TZNAME:EDT
END:DAYLIGHT
END:VTIMEZONE
END:VCALENDAR