BEGIN:VCALENDAR
VERSION:2.0
PRODID:-//wp-events-plugin.com//7.2.3.1//EN
TZID:America/New_York
X-WR-TIMEZONE:America/New_York
BEGIN:VEVENT
UID:1265@findingconnecticut.com
DTSTART;TZID=America/New_York:20230930T190000
DTEND;TZID=America/New_York:20230930T220000
DTSTAMP:20230517T135801Z
URL:https://findingconnecticut.com/events/the-surrealist-soiree/
SUMMARY:The Surrealist Soirée
DESCRIPTION:The Surrealist Soirée\nSeptember 30\, 2023 • 7 PM\n Click h
 ere for more information \n\n MoCA Westport  \n19 Newtown Turnpike\nWes
 tport\, Connecticut 06880\n\nTo add an event please email us\, we monitor 
 for spam. We need a photo\, description and website for each submission - 
 We do not accept submissions that are within the next 3 days. submissions 
 at findingconnecticut.com  \n\n[caption id="attachment_16083" align="ali
 gnnone" width="300"] shop.findingconnecticut.com[/caption]
ATTACH;FMTTYPE=image/jpeg:https://findingconnecticut.com/wp-content/upload
 s/2023/05/The-Surrealist-Soiree.jpg
CATEGORIES:Westport
LOCATION:MoCA Westport\, 19 Newtown Turnpike \, Westport\, Connecticut\, 06
 880\, New England \, United States
X-APPLE-STRUCTURED-LOCATION;VALUE=URI;X-ADDRESS=19 Newtown Turnpike \, West
 port\, Connecticut\, 06880\, New England \, United States;X-APPLE-RADIUS=1
 00;X-TITLE=MoCA Westport:geo:0,0
END:VEVENT
BEGIN:VTIMEZONE
TZID:America/New_York
X-LIC-LOCATION:America/New_York
BEGIN:DAYLIGHT
DTSTART:20230312T030000
TZOFFSETFROM:-0500
TZOFFSETTO:-0400
TZNAME:EDT
END:DAYLIGHT
END:VTIMEZONE
END:VCALENDAR