BEGIN:VCALENDAR
VERSION:2.0
PRODID:-//wp-events-plugin.com//7.2.3.1//EN
TZID:America/New_York
X-WR-TIMEZONE:America/New_York
BEGIN:VEVENT
UID:1257@findingconnecticut.com
DTSTART;TZID=America/New_York:20230824T103000
DTEND;TZID=America/New_York:20230824T163000
DTSTAMP:20230517T133702Z
URL:https://findingconnecticut.com/events/the-super-mario-bros-movie/
SUMMARY:The Super Mario Bros. Movie
DESCRIPTION:The Super Mario Bros. Movie\nAugust 24\, 2023 •  10:30 am - 
 4:30 pm\n\n Click here for more information \n\n The SoNo Collection\n1
 00 N Water St\nNorwalk\, CT 06854\nTo add an event please email us\, we mo
 nitor for spam. We need a photo\, description and website for each submiss
 ion - We do not accept submissions that are within the next 3 days. submis
 sions at findingconnecticut.com  \n\n&nbsp\;\n\n[caption id="attachment_
 16083" align="alignnone" width="300"] shop.findingconnecticut.com[/caption
 ]\n\n&nbsp\;
ATTACH;FMTTYPE=image/jpeg:https://findingconnecticut.com/wp-content/upload
 s/2023/05/image003-2.jpg
CATEGORIES:Norwalk
LOCATION:The SoNo Collection\, 100 Watet Street\, Norwalk\, Connecticut \, 
 06854\, New England\, United States
X-APPLE-STRUCTURED-LOCATION;VALUE=URI;X-ADDRESS=100 Watet Street\, Norwalk\
 , Connecticut \, 06854\, New England\, United States;X-APPLE-RADIUS=100;X-
 TITLE=The SoNo Collection:geo:0,0
END:VEVENT
BEGIN:VTIMEZONE
TZID:America/New_York
X-LIC-LOCATION:America/New_York
BEGIN:DAYLIGHT
DTSTART:20230312T030000
TZOFFSETFROM:-0500
TZOFFSETTO:-0400
TZNAME:EDT
END:DAYLIGHT
END:VTIMEZONE
END:VCALENDAR