BEGIN:VCALENDAR
VERSION:2.0
PRODID:-//wp-events-plugin.com//7.2.3.1//EN
TZID:America/New_York
X-WR-TIMEZONE:America/New_York
BEGIN:VEVENT
UID:521@findingconnecticut.com
DTSTART;TZID=America/New_York:20230714T190000
DTEND;TZID=America/New_York:20230714T223000
DTSTAMP:20230221T191034Z
URL:https://findingconnecticut.com/events/the-revivalist-the-head-and-the-
 heart/
SUMMARY:The Revivalist + The Head and the Heart
DESCRIPTION:The Revivalist + The Head and the Heart\nJuly 14\, 2023  • 
  7 PM\n\nClick here for more information \nHartford Healthcare Amphitheat
 er\n500 Broad Street\nBridgeport\, CT 06604\nTo add an event please email 
 us\, we monitor for spam. We need a photo\, description and website for ea
 ch submission - We do not accept submissions that are within the next 3 da
 ys. submissions@findingconnecticut.com\n\n\n[caption id="attachment_16083"
  align="alignnone" width="300"] shop.findingconnecticut.com[/caption]
ATTACH;FMTTYPE=image/jpeg:https://findingconnecticut.com/wp-content/upload
 s/2023/02/7a58f14a-6090-40ed-9a78-684fe01c5f88.png
CATEGORIES:Bridgeport
LOCATION:Hartford HealthCare Amphitheater\, 500 Broad St\, \, Bridgeport\, 
 \, Connecticut\, \, 06604\,\, New England\, \, United States
X-APPLE-STRUCTURED-LOCATION;VALUE=URI;X-ADDRESS=500 Broad St\, \, Bridgepor
 t\, \, Connecticut\, \, 06604\,\, New England\, \, United States;X-APPLE-R
 ADIUS=100;X-TITLE=Hartford HealthCare Amphitheater:geo:0,0
END:VEVENT
BEGIN:VTIMEZONE
TZID:America/New_York
X-LIC-LOCATION:America/New_York
BEGIN:DAYLIGHT
DTSTART:20230312T030000
TZOFFSETFROM:-0500
TZOFFSETTO:-0400
TZNAME:EDT
END:DAYLIGHT
END:VTIMEZONE
END:VCALENDAR